Workbook

Sheet Combined
C2: Medial Translation (mm)
E3: Flexion (deg)
B4: 600 N Quad Load | C4: 0 | D4: 15 | E4: 30 | F4: 45 | G4: 60
B5: OKS001 | C5: ='001'!C11 -> 2.8054312 | D5: ='001'!D11 -> 0.75782252 | E5: ='001'!E11 -> -2.6850973 | F5: ='001'!F11 -> -6.80523 | G5: ='001'!G11 -> -10.617248
B6: OKS002 | C6: ='002'!C11 -> -0.43826818 | D6: ='002'!D11 -> 3.0073659 | E6: ='002'!E11 -> 1.1802602 | F6: ='002'!F11 -> 0.33794577 | G6: ='002'!G11 -> 0.26382992
B7: OKS003 | C7: ='003'!C11 -> -7.4855838 | D7: ='003'!D11 -> -4.4783613 | E7: ='003'!E11 -> -2.8331375 | F7: ='003'!F11 -> -2.7252065 | G7: ='003'!G11 -> -3.4454
B8: OKS004 | C8: ='004'!C11 -> 1.7493003 | D8: ='004'!D11 -> -1.0463316 | E8: ='004'!E11 -> -4.5965403 | F8: ='004'!F11 -> -7.0327006 | G8: ='004'!G11 -> -9.2399301
B9: OKS006 | C9: ='006'!C11 -> 0.81682403 | D9: ='006'!D11 -> 0.77815128 | E9: ='006'!E11 -> 0.37720888 | F9: ='006'!F11 -> -0.074568988 | G9: ='006'!G11 -> -1.2161768
B10: OKS007 | C10: ='007'!C11 -> -1.2557029 | D10: ='007'!D11 -> 1.7937089 | E10: ='007'!E11 -> 1.933658 | F10: ='007'!F11 -> 1.1773589 | G10: ='007'!G11 -> -0.62343413
B11: OKS008 | C11: ='008'!C11 -> -0.42941567 | D11: ='008'!D11 -> -0.9316365 | E11: ='008'!E11 -> -4.0642889 | F11: ='008'!F11 -> -6.6198536 | G11: ='008'!G11 -> -9.7228276
C13: Posterior Translation (mm)
B14: Quad Load (N) | E14: Flexion (deg)
B15: 600 N Quad Load | C15: 0 | D15: 15 | E15: 30 | F15: 45 | G15: 60
B16: OKS001 | C16: ='001'!C22 -> 12.365465 | D16: ='001'!D22 -> 8.9103846 | E16: ='001'!E22 -> 7.418545 | F16: ='001'!F22 -> 6.507487 | G16: ='001'!G22 -> 6.096964
B17: OKS002 | C17: ='002'!C22 -> 1.7166179 | D17: ='002'!D22 -> 2.0894985 | E17: ='002'!E22 -> 2.7051867 | F17: ='002'!F22 -> 5.1100396 | G17: ='002'!G22 -> 7.291149
B18: OKS003 | C18: ='003'!C22 -> 3.7378863 | D18: ='003'!D22 -> 2.4413594 | E18: ='003'!E22 -> 2.2316109 | F18: ='003'!F22 -> 4.2279306 | G18: ='003'!G22 -> 7.1786919
B19: OKS004 | C19: ='004'!C22 -> 4.9675803 | D19: ='004'!D22 -> 4.1650338 | E19: ='004'!E22 -> 4.4335614 | F19: ='004'!F22 -> 5.6485134 | G19: ='004'!G22 -> 6.8159577
B20: OKS006 | C20: ='006'!C22 -> 3.2982507 | D20: ='006'!D22 -> 2.1347404 | E20: ='006'!E22 -> 3.734035 | F20: ='006'!F22 -> 5.8059587 | G20: ='006'!G22 -> 7.6929924
B21: OKS007 | C21: ='007'!C22 -> 1.8310487 | D21: ='007'!D22 -> 2.2350378 | E21: ='007'!E22 -> 2.180345 | F21: ='007'!F22 -> 4.5802075 | G21: ='007'!G22 -> 9.6076522
B22: OKS008 | C22: ='008'!C22 -> 1.7174637 | D22: ='008'!D22 -> 0.31265907 | E22: ='008'!E22 -> -0.80325937 | F22: ='008'!F22 -> -0.72177981 | G22: ='008'!G22 -> -1.3605441
C24: Superior Translation (mm)
B25: Quad Load (N) | E25: Flexion (deg)
B26: 600 N Quad Load | C26: 0 | D26: 15 | E26: 30 | F26: 45 | G26: 60
B27: OKS001 | C27: ='001'!C33 -> 21.096796 | D27: ='001'!D33 -> 12.86418 | E27: ='001'!E33 -> 5.5884045 | F27: ='001'!F33 -> -1.7032917 | G27: ='001'!G33 -> -7.9804001
B28: OKS002 | C28: ='002'!C33 -> 5.2034846 | D28: ='002'!D33 -> -0.79465631 | E28: ='002'!E33 -> -9.2077094 | F28: ='002'!F33 -> -10.479466 | G28: ='002'!G33 -> -10.807128
B29: OKS003 | C29: ='003'!C33 -> 9.8929922 | D29: ='003'!D33 -> 4.2502528 | E29: ='003'!E33 -> -4.3253382 | F29: ='003'!F33 -> -13.201661 | G29: ='003'!G33 -> -17.867268
B30: OKS004 | C30: ='004'!C33 -> 8.9694536 | D30: ='004'!D33 -> 2.6855159 | E30: ='004'!E33 -> -3.9812201 | F30: ='004'!F33 -> -9.1759095 | G30: ='004'!G33 -> -12.217632
B31: OKS006 | C31: ='006'!C33 -> 7.4936747 | D31: ='006'!D33 -> -1.7572863 | E31: ='006'!E33 -> -6.9052674 | F31: ='006'!F33 -> -9.2865023 | G31: ='006'!G33 -> -11.561633
B32: OKS007 | C32: ='007'!C33 -> 4.9077393 | D32: ='007'!D33 -> -1.4609451 | E32: ='007'!E33 -> -9.731538 | F32: ='007'!F33 -> -16.167352 | G32: ='007'!G33 -> -19.466731
B33: OKS008 | C33: ='008'!C33 -> 3.2183088 | D33: ='008'!D33 -> -6.4920306 | E33: ='008'!E33 -> -14.615767 | F33: ='008'!F33 -> -19.81211 | G33: ='008'!G33 -> -22.034966
C35: Flexion (degrees)
E36: Flexion (deg)
B37: 600 N Quad Load | C37: 0 | D37: 15 | E37: 30 | F37: 45 | G37: 60
B38: OKS001 | C38: ='001'!C44 -> -11.128464 | D38: ='001'!D44 -> -3.4554771 | E38: ='001'!E44 -> 5.2502467 | F38: ='001'!F44 -> 12.534995 | G38: ='001'!G44 -> 20.529119
B39: OKS002 | C39: ='002'!C44 -> 1.9902101 | D39: ='002'!D44 -> 8.8707106 | E39: ='002'!E44 -> 12.578073 | F39: ='002'!F44 -> 24.732339 | G39: ='002'!G44 -> 36.88325
B40: OKS003 | C40: ='003'!C44 -> 0.62015372 | D40: ='003'!D44 -> 9.7763471 | E40: ='003'!E44 -> 16.435814 | F40: ='003'!F44 -> 22.883889 | G40: ='003'!G44 -> 32.833723
B41: OKS004 | C41: ='004'!C44 -> 1.158804 | D41: ='004'!D44 -> 7.6557385 | E41: ='004'!E44 -> 14.35522 | F41: ='004'!F44 -> 22.512091 | G41: ='004'!G44 -> 32.534295
B42: OKS006 | C42: ='006'!C44 -> 4.8043394 | D42: ='006'!D44 -> 7.8974887 | E42: ='006'!E44 -> 15.711216 | F42: ='006'!F44 -> 27.226771 | G42: ='006'!G44 -> 38.562252
B43: OKS007 | C43: ='007'!C44 -> 1.1233755 | D43: ='007'!D44 -> 5.7857975 | E43: ='007'!E44 -> 10.264506 | F43: ='007'!F44 -> 16.936424 | G43: ='007'!G44 -> 27.127021
B44: OKS008 | C44: ='008'!C44 -> 0.94510083 | D44: ='008'!D44 -> 5.8886247 | E44: ='008'!E44 -> 12.732864 | F44: ='008'!F44 -> 22.194108 | G44: ='008'!G44 -> 33.233545
C46: Valgus (degrees)
B47: Quad Load (N) | E47: Flexion (deg)
B48: 600 N Quad Load | C48: 0 | D48: 15 | E48: 30 | F48: 45 | G48: 60
B49: OKS001 | C49: ='001'!C55 -> -19.634463 | D49: ='001'!D55 -> -17.253368 | E49: ='001'!E55 -> -15.44726 | F49: ='001'!F55 -> -12.851603 | G49: ='001'!G55 -> -10.899483
B50: OKS002 | C50: ='002'!C55 -> -1.6116756 | D50: ='002'!D55 -> -0.91289628 | E50: ='002'!E55 -> 0.30463641 | F50: ='002'!F55 -> 1.3877222 | G50: ='002'!G55 -> 2.2193475
B51: OKS003 | C51: ='003'!C55 -> 4.1357891 | D51: ='003'!D55 -> 4.6150636 | E51: ='003'!E55 -> 4.62409 | F51: ='003'!F55 -> 4.7010493 | G51: ='003'!G55 -> 4.9733864
B52: OKS004 | C52: ='004'!C55 -> -0.48913474 | D52: ='004'!D55 -> 0.29821659 | E52: ='004'!E55 -> 0.76770516 | F52: ='004'!F55 -> 1.5461865 | G52: ='004'!G55 -> 1.4744242
B53: OKS006 | C53: ='006'!C55 -> -4.0095876 | D53: ='006'!D55 -> -2.7950067 | E53: ='006'!E55 -> -1.358601 | F53: ='006'!F55 -> 0.26482292 | G53: ='006'!G55 -> 1.1225959
B54: OKS007 | C54: ='007'!C55 -> -0.17809874 | D54: ='007'!D55 -> 0.50719524 | E54: ='007'!E55 -> 0.45195966 | F54: ='007'!F55 -> 0.97458069 | G54: ='007'!G55 -> 1.6862937
B55: OKS008 | C55: ='008'!C55 -> -0.63543943 | D55: ='008'!D55 -> 1.652622 | E55: ='008'!E55 -> 4.3322181 | F55: ='008'!F55 -> 7.5719728 | G55: ='008'!G55 -> 11.382829
C57: IR (degrees)
B58: Quad Load (N) | E58: Flexion (deg)
B59: 600 N Quad Load | C59: 0 | D59: 15 | E59: 30 | F59: 45 | G59: 60
B60: OKS001 | C60: ='001'!C66 -> 4.3537136 | D60: ='001'!D66 -> 2.3550807 | E60: ='001'!E66 -> 0.89527901 | F60: ='001'!F66 -> 0.26772337 | G60: ='001'!G66 -> -2.781839
B61: OKS002 | C61: ='002'!C66 -> 0.36161642 | D61: ='002'!D66 -> 6.4794404 | E61: ='002'!E66 -> 8.2552289 | F61: ='002'!F66 -> 7.287603 | G61: ='002'!G66 -> 6.6155812
B62: OKS003 | C62: ='003'!C66 -> 5.792431 | D62: ='003'!D66 -> 4.9664748 | E62: ='003'!E66 -> 3.6908648 | F62: ='003'!F66 -> 0.87174709 | G62: ='003'!G66 -> -1.765187
B63: OKS004 | C63: ='004'!C66 -> 5.1494278 | D63: ='004'!D66 -> 4.4384976 | E63: ='004'!E66 -> 1.7988172 | F63: ='004'!F66 -> -0.55055006 | G63: ='004'!G66 -> -1.2182469
B64: OKS006 | C64: ='006'!C66 -> -2.3039189 | D64: ='006'!D66 -> 3.6396319 | E64: ='006'!E66 -> 5.476595 | F64: ='006'!F66 -> 4.7051037 | G64: ='006'!G66 -> 2.8047214
B65: OKS007 | C65: ='007'!C66 -> -3.1715172 | D65: ='007'!D66 -> 4.1030654 | E65: ='007'!E66 -> 4.0528722 | F65: ='007'!F66 -> 3.1607889 | G65: ='007'!G66 -> 1.5308973
B66: OKS008 | C66: ='008'!C66 -> 1.7290639 | D66: ='008'!D66 -> -0.35669138 | E66: ='008'!E66 -> -2.8466769 | F66: ='008'!F66 -> -4.4136241 | G66: ='008'!G66 -> -9.4211937

Sheet 2D analysis
A1: @600N | D1: mean
B2: Flexion (deg) | C2: Medial Translation (mm) | D2: Posterior Translation (mm) | E2: Superior Translation (mm) | F2: Flexion (degrees) | G2: Valgus (degrees) | H2: IR (degrees)
B3: 0 | C3: -0.605345 | D3: 4.2334733 | E3: 8.6832071 | F3: -0.069497194 | G3: -3.2032301 | H3: 1.7015452
B4: 15 | C4: -0.017040109 | D4: 3.1841019 | E4: 1.3278615 | F4: 6.05989 | G4: -1.9840249 | H4: 3.6607856
B5: 30 | C5: -1.5268481 | D5: 3.128575 | E5: -6.1683479 | F5: 12.47542 | G5: -0.90360733 | H5: 3.04614
B6: 45 | C6: -3.1060365 | D6: 4.4511938 | E6: -11.403756 | F6: 21.28866 | G6: 0.51353299 | H6: 1.6183988
B7: 60 | C7: -4.9430266 | D7: 6.1889804 | E7: -14.562251 | F7: 31.671887 | G7: 1.7084848 | H7: -0.60503809
D8: stdev
B9: 0 | C9: 3.3421508 | D9: 3.7908874 | E9: 5.9621786 | F9: 5.0782891 | G9: 7.6391663 | H9: 3.588033
B10: 15 | C10: 2.4309771 | D10: 2.761323 | E10: 6.1430396 | F10: 4.4400251 | G10: 7.1080451 | H10: 2.1716169
B11: 30 | C11: 2.6406602 | D11: 2.5105005 | E11: 6.3276827 | F11: 3.804752 | G11: 6.7796859 | H11: 3.5444371
B12: 45 | C12: 3.6740747 | D12: 2.4068489 | E12: 5.7882657 | F12: 4.9589997 | G12: 6.4302506 | H12: 3.8192068
B13: 60 | C13: 4.7505998 | D13: 3.5009656 | E13: 5.2080257 | F13: 6.1098951 | G13: 6.6316524 | H13: 5.0416772
D17: mean
B18: Flexion (deg) | C18: Medial Translation (mm) | D18: Posterior Translation (mm) | E18: Superior Translation (mm) | F18: Flexion (degrees) | G18: Valgus (degrees) | H18: IR (degrees) | I18: Medial Translation (mm) | J18: Posterior Translation (mm) | K18: Superior Translation (mm) | L18: Flexion (degrees) | M18: Valgus (degrees) | N18: IR (degrees) | O18: Medial Translation (mm) | P18: Posterior Translation (mm) | Q18: Superior Translation (mm) | R18: Flexion (degrees) | S18: Valgus (degrees) | T18: IR (degrees)
B19: 0 | C19: -0.605345 | D19: 4.2334733 | E19: 8.6832071 | F19: -0.069497194 | G19: -3.2032301 | H19: 1.7015452 | I19: =C19+I25 -> 2.7368058 | J19: =D19+J25 -> 8.0243607 | K19: =E19+K25 -> 14.645386 | L19: =F19+L25 -> 5.0087919 | M19: =G19+M25 -> 4.4359362 | N19: =H19+N25 -> 5.2895782 | O19: =C19+O25 -> -3.9474958 | P19: =D19+P25 -> 0.44258588 | Q19: =E19+Q25 -> 2.7210285 | R19: =F19+R25 -> -5.1477863 | S19: =G19+S25 -> -10.842396 | T19: =H19+T25 -> -1.8864878
B20: 15 | C20: -0.017040109 | D20: 3.1841019 | E20: 1.3278615 | F20: 6.05989 | G20: -1.9840249 | H20: 3.6607856 | I20: =C20+I26 -> 2.413937 | J20: =D20+J26 -> 5.945425 | K20: =E20+K26 -> 7.4709011 | L20: =F20+L26 -> 10.499915 | M20: =G20+M26 -> 5.1240203 | N20: =H20+N26 -> 5.8324026 | O20: =C20+O26 -> -2.4480173 | P20: =D20+P26 -> 0.42277889 | Q20: =E20+Q26 -> -4.8151781 | R20: =F20+R26 -> 1.6198649 | S20: =G20+S26 -> -9.09207 | T20: =H20+T26 -> 1.4891687
B21: 30 | C21: -1.5268481 | D21: 3.128575 | E21: -6.1683479 | F21: 12.47542 | G21: -0.90360733 | H21: 3.04614 | I21: =C21+I27 -> 1.1138121 | J21: =D21+J27 -> 5.6390755 | K21: =E21+K27 -> 0.15933485 | L21: =F21+L27 -> 16.280172 | M21: =G21+M27 -> 5.8760786 | N21: =H21+N27 -> 6.5905772 | O21: =C21+O27 -> -4.1675084 | P21: =D21+P27 -> 0.61807442 | Q21: =E21+Q27 -> -12.496031 | R21: =F21+R27 -> 8.6706677 | S21: =G21+S27 -> -7.6832933 | T21: =H21+T27 -> -0.49829707
B22: 45 | C22: -3.1060365 | D22: 4.4511938 | E22: -11.403756 | F22: 21.28866 | G22: 0.51353299 | H22: 1.6183988 | I22: =C22+I28 -> 0.56803828 | J22: =D22+J28 -> 6.8580427 | K22: =E22+K28 -> -5.6154905 | L22: =F22+L28 -> 26.247659 | M22: =G22+M28 -> 6.9437836 | N22: =H22+N28 -> 5.4376056 | O22: =C22+O28 -> -6.7801112 | P22: =D22+P28 -> 2.044345 | Q22: =E22+Q28 -> -17.192022 | R22: =F22+R28 -> 16.32966 | S22: =G22+S28 -> -5.9167176 | T22: =H22+T28 -> -2.2008079
B23: 60 | C23: -4.9430266 | D23: 6.1889804 | E23: -14.562251 | F23: 31.671887 | G23: 1.7084848 | H23: -0.60503809 | I23: =C23+I29 -> -0.19242682 | J23: =D23+J29 -> 9.6899461 | K23: =E23+K29 -> -9.3542256 | L23: =F23+L29 -> 37.781782 | M23: =G23+M29 -> 8.3401372 | N23: =H23+N29 -> 4.4366391 | O23: =C23+O29 -> -9.6936265 | P23: =D23+P29 -> 2.6880148 | Q23: =E23+Q29 -> -19.770277 | R23: =F23+R29 -> 25.561992 | S23: =G23+S29 -> -4.9231676 | T23: =H23+T29 -> -5.6467153
D24: stdev
B25: 0 | I25: 3.3421508 | J25: 3.7908874 | K25: 5.9621786 | L25: 5.0782891 | M25: 7.6391663 | N25: 3.588033 | O25: =I25*-1 -> -3.3421508 | P25: =J25*-1 -> -3.7908874 | Q25: =K25*-1 -> -5.9621786 | R25: =L25*-1 -> -5.0782891 | S25: =M25*-1 -> -7.6391663 | T25: =N25*-1 -> -3.588033
B26: 15 | I26: 2.4309771 | J26: 2.761323 | K26: 6.1430396 | L26: 4.4400251 | M26: 7.1080451 | N26: 2.1716169 | O26: =I26*-1 -> -2.4309771 | P26: =J26*-1 -> -2.761323 | Q26: =K26*-1 -> -6.1430396 | R26: =L26*-1 -> -4.4400251 | S26: =M26*-1 -> -7.1080451 | T26: =N26*-1 -> -2.1716169
B27: 30 | I27: 2.6406602 | J27: 2.5105005 | K27: 6.3276827 | L27: 3.804752 | M27: 6.7796859 | N27: 3.5444371 | O27: =I27*-1 -> -2.6406602 | P27: =J27*-1 -> -2.5105005 | Q27: =K27*-1 -> -6.3276827 | R27: =L27*-1 -> -3.804752 | S27: =M27*-1 -> -6.7796859 | T27: =N27*-1 -> -3.5444371
B28: 45 | I28: 3.6740747 | J28: 2.4068489 | K28: 5.7882657 | L28: 4.9589997 | M28: 6.4302506 | N28: 3.8192068 | O28: =I28*-1 -> -3.6740747 | P28: =J28*-1 -> -2.4068489 | Q28: =K28*-1 -> -5.7882657 | R28: =L28*-1 -> -4.9589997 | S28: =M28*-1 -> -6.4302506 | T28: =N28*-1 -> -3.8192068
B29: 60 | I29: 4.7505998 | J29: 3.5009656 | K29: 5.2080257 | L29: 6.1098951 | M29: 6.6316524 | N29: 5.0416772 | O29: =I29*-1 -> -4.7505998 | P29: =J29*-1 -> -3.5009656 | Q29: =K29*-1 -> -5.2080257 | R29: =L29*-1 -> -6.1098951 | S29: =M29*-1 -> -6.6316524 | T29: =N29*-1 -> -5.0416772
D32: mean
B33: Flexion (deg) | C33: Medial Translation (mm) | D33: Posterior Translation (mm) | E33: Superior Translation (mm) | F33: Medial Translation (mm) | G33: Posterior Translation (mm) | H33: Superior Translation (mm) | I33: Medial Translation (mm) | J33: Posterior Translation (mm) | K33: Superior Translation (mm)
B34: 0 | C34: -0.605345 | D34: 4.2334733 | E34: 8.6832071 | F34: 2.7368058 | G34: 8.0243607 | H34: 14.645386 | I34: -3.9474958 | J34: 0.44258588 | K34: 2.7210285
B35: 15 | C35: -0.017040109 | D35: 3.1841019 | E35: 1.3278615 | F35: 2.413937 | G35: 5.945425 | H35: 7.4709011 | I35: -2.4480173 | J35: 0.42277889 | K35: -4.8151781
B36: 30 | C36: -1.5268481 | D36: 3.128575 | E36: -6.1683479 | F36: 1.1138121 | G36: 5.6390755 | H36: 0.15933485 | I36: -4.1675084 | J36: 0.61807442 | K36: -12.496031
B37: 45 | C37: -3.1060365 | D37: 4.4511938 | E37: -11.403756 | F37: 0.56803828 | G37: 6.8580427 | H37: -5.6154905 | I37: -6.7801112 | J37: 2.044345 | K37: -17.192022
B38: 60 | C38: -4.9430266 | D38: 6.1889804 | E38: -14.562251 | F38: -0.19242682 | G38: 9.6899461 | H38: -9.3542256 | I38: -9.6936265 | J38: 2.6880148 | K38: -19.770277
D40: mean
B41: Flexion (deg) | C41: Flexion (degrees) | D41: Valgus (degrees) | E41: IR (degrees) | F41: Flexion (degrees) | G41: Valgus (degrees) | H41: IR (degrees) | I41: Flexion (degrees) | J41: Valgus (degrees) | K41: IR (degrees)
B42: 0 | C42: -0.069497194 | D42: -3.2032301 | E42: 1.7015452 | F42: 5.0087919 | G42: 4.4359362 | H42: 5.2895782 | I42: -5.1477863 | J42: -10.842396 | K42: -1.8864878
B43: 15 | C43: 6.05989 | D43: -1.9840249 | E43: 3.6607856 | F43: 10.499915 | G43: 5.1240203 | H43: 5.8324026 | I43: 1.6198649 | J43: -9.09207 | K43: 1.4891687
B44: 30 | C44: 12.47542 | D44: -0.90360733 | E44: 3.04614 | F44: 16.280172 | G44: 5.8760786 | H44: 6.5905772 | I44: 8.6706677 | J44: -7.6832933 | K44: -0.49829707
B45: 45 | C45: 21.28866 | D45: 0.51353299 | E45: 1.6183988 | F45: 26.247659 | G45: 6.9437836 | H45: 5.4376056 | I45: 16.32966 | J45: -5.9167176 | K45: -2.2008079
B46: 60 | C46: 31.671887 | D46: 1.7084848 | E46: -0.60503809 | F46: 37.781782 | G46: 8.3401372 | H46: 4.4366391 | I46: 25.561992 | J46: -4.9231676 | K46: -5.6467153

Sheet Mean
C2: Medial Translation (mm)
E3: Flexion (deg)
B4: Quad Load (N) | C4: 0 | D4: 15 | E4: 30 | F4: 45 | G4: 60
B5: 20 | C5: =AVERAGE('001'!C5,'002'!C5,'003'!C5,'004'!C5,'006'!C5,'007'!C5,'008'!C5) -> -0.30184477 | D5: =AVERAGE('001'!D5,'002'!D5,'003'!D5,'004'!D5,'006'!D5,'007'!D5,'008'!D5) -> 0.14917801 | E5: =AVERAGE('001'!E5,'002'!E5,'003'!E5,'004'!E5,'006'!E5,'007'!E5,'008'!E5) -> -1.4176252 | F5: =AVERAGE('001'!F5,'002'!F5,'003'!F5,'004'!F5,'006'!F5,'007'!F5,'008'!F5) -> -3.1430785 | G5: =AVERAGE('001'!G5,'002'!G5,'003'!G5,'004'!G5,'006'!G5,'007'!G5,'008'!G5) -> -5.0989572
B6: 100 | C6: =AVERAGE('001'!C6,'002'!C6,'003'!C6,'004'!C6,'006'!C6,'007'!C6,'008'!C6) -> -0.20277591 | D6: =AVERAGE('001'!D6,'002'!D6,'003'!D6,'004'!D6,'006'!D6,'007'!D6,'008'!D6) -> 0.066551907 | E6: =AVERAGE('001'!E6,'002'!E6,'003'!E6,'004'!E6,'006'!E6,'007'!E6,'008'!E6) -> -1.5226215 | F6: =AVERAGE('001'!F6,'002'!F6,'003'!F6,'004'!F6,'006'!F6,'007'!F6,'008'!F6) -> -3.176385 | G6: =AVERAGE('001'!G6,'002'!G6,'003'!G6,'004'!G6,'006'!G6,'007'!G6,'008'!G6) -> -5.1016122
B7: 200 | C7: =AVERAGE('001'!C7,'002'!C7,'003'!C7,'004'!C7,'006'!C7,'007'!C7,'008'!C7) -> -0.1604205 | D7: =AVERAGE('001'!D7,'002'!D7,'003'!D7,'004'!D7,'006'!D7,'007'!D7,'008'!D7) -> 0.041848442 | E7: =AVERAGE('001'!E7,'002'!E7,'003'!E7,'004'!E7,'006'!E7,'007'!E7,'008'!E7) -> -1.5347169 | F7: =AVERAGE('001'!F7,'002'!F7,'003'!F7,'004'!F7,'006'!F7,'007'!F7,'008'!F7) -> -3.1767563 | G7: =AVERAGE('001'!G7,'002'!G7,'003'!G7,'004'!G7,'006'!G7,'007'!G7,'008'!G7) -> -5.0632177
B8: 300 | C8: =AVERAGE('001'!C8,'002'!C8,'003'!C8,'004'!C8,'006'!C8,'007'!C8,'008'!C8) -> -0.28369219 | D8: =AVERAGE('001'!D8,'002'!D8,'003'!D8,'004'!D8,'006'!D8,'007'!D8,'008'!D8) -> -0.0095924478 | E8: =AVERAGE('001'!E8,'002'!E8,'003'!E8,'004'!E8,'006'!E8,'007'!E8,'008'!E8) -> -1.5324682 | F8: =AVERAGE('001'!F8,'002'!F8,'003'!F8,'004'!F8,'006'!F8,'007'!F8,'008'!F8) -> -3.1796688 | G8: =AVERAGE('001'!G8,'002'!G8,'003'!G8,'004'!G8,'006'!G8,'007'!G8,'008'!G8) -> -5.0178689
B9: 400 | C9: =AVERAGE('001'!C9,'002'!C9,'003'!C9,'004'!C9,'006'!C9,'007'!C9,'008'!C9) -> -0.39928303 | D9: =AVERAGE('001'!D9,'002'!D9,'003'!D9,'004'!D9,'006'!D9,'007'!D9,'008'!D9) -> -0.048582007 | E9: =AVERAGE('001'!E9,'002'!E9,'003'!E9,'004'!E9,'006'!E9,'007'!E9,'008'!E9) -> -1.5457543 | F9: =AVERAGE('001'!F9,'002'!F9,'003'!F9,'004'!F9,'006'!F9,'007'!F9,'008'!F9) -> -3.1598694 | G9: =AVERAGE('001'!G9,'002'!G9,'003'!G9,'004'!G9,'006'!G9,'007'!G9,'008'!G9) -> -4.978233
B10: 500 | C10: =AVERAGE('001'!C10,'002'!C10,'003'!C10,'004'!C10,'006'!C10,'007'!C10,'008'!C10) -> -0.49800474 | D10: =AVERAGE('001'!D10,'002'!D10,'003'!D10,'004'!D10,'006'!D10,'007'!D10,'008'!D10) -> -0.021094567 | E10: =AVERAGE('001'!E10,'002'!E10,'003'!E10,'004'!E10,'006'!E10,'007'!E10,'008'!E10) -> -1.5229606 | F10: =AVERAGE('001'!F10,'002'!F10,'003'!F10,'004'!F10,'006'!F10,'007'!F10,'008'!F10) -> -3.1346972 | G10: =AVERAGE('001'!G10,'002'!G10,'003'!G10,'004'!G10,'006'!G10,'007'!G10,'008'!G10) -> -4.9576592
B11: 600 | C11: =AVERAGE('001'!C11,'002'!C11,'003'!C11,'004'!C11,'006'!C11,'007'!C11,'008'!C11) -> -0.605345 | D11: =AVERAGE('001'!D11,'002'!D11,'003'!D11,'004'!D11,'006'!D11,'007'!D11,'008'!D11) -> -0.017040109 | E11: =AVERAGE('001'!E11,'002'!E11,'003'!E11,'004'!E11,'006'!E11,'007'!E11,'008'!E11) -> -1.5268481 | F11: =AVERAGE('001'!F11,'002'!F11,'003'!F11,'004'!F11,'006'!F11,'007'!F11,'008'!F11) -> -3.1060365 | G11: =AVERAGE('001'!G11,'002'!G11,'003'!G11,'004'!G11,'006'!G11,'007'!G11,'008'!G11) -> -4.9430266
C13: Posterior Translation (mm)
B14: Quad Load (N) | E14: Flexion (deg)
C15: 0 | D15: 15 | E15: 30 | F15: 45 | G15: 60
B16: 20 | C16: =AVERAGE('001'!C16,'002'!C16,'003'!C16,'004'!C16,'006'!C16,'007'!C16,'008'!C16) -> 1.4701304 | D16: =AVERAGE('001'!D16,'002'!D16,'003'!D16,'004'!D16,'006'!D16,'007'!D16,'008'!D16) -> 1.8978942 | E16: =AVERAGE('001'!E16,'002'!E16,'003'!E16,'004'!E16,'006'!E16,'007'!E16,'008'!E16) -> 2.740789 | F16: =AVERAGE('001'!F16,'002'!F16,'003'!F16,'004'!F16,'006'!F16,'007'!F16,'008'!F16) -> 4.0925776 | G16: =AVERAGE('001'!G16,'002'!G16,'003'!G16,'004'!G16,'006'!G16,'007'!G16,'008'!G16) -> 5.8237973
B17: 100 | C17: =AVERAGE('001'!C17,'002'!C17,'003'!C17,'004'!C17,'006'!C17,'007'!C17,'008'!C17) -> 2.5390979 | D17: =AVERAGE('001'!D17,'002'!D17,'003'!D17,'004'!D17,'006'!D17,'007'!D17,'008'!D17) -> 2.396817 | E17: =AVERAGE('001'!E17,'002'!E17,'003'!E17,'004'!E17,'006'!E17,'007'!E17,'008'!E17) -> 2.8479574 | F17: =AVERAGE('001'!F17,'002'!F17,'003'!F17,'004'!F17,'006'!F17,'007'!F17,'008'!F17) -> 4.1855174 | G17: =AVERAGE('001'!G17,'002'!G17,'003'!G17,'004'!G17,'006'!G17,'007'!G17,'008'!G17) -> 5.9330582
B18: 200 | C18: =AVERAGE('001'!C18,'002'!C18,'003'!C18,'004'!C18,'006'!C18,'007'!C18,'008'!C18) -> 3.1996364 | D18: =AVERAGE('001'!D18,'002'!D18,'003'!D18,'004'!D18,'006'!D18,'007'!D18,'008'!D18) -> 2.6770796 | E18: =AVERAGE('001'!E18,'002'!E18,'003'!E18,'004'!E18,'006'!E18,'007'!E18,'008'!E18) -> 2.9119415 | F18: =AVERAGE('001'!F18,'002'!F18,'003'!F18,'004'!F18,'006'!F18,'007'!F18,'008'!F18) -> 4.2483753 | G18: =AVERAGE('001'!G18,'002'!G18,'003'!G18,'004'!G18,'006'!G18,'007'!G18,'008'!G18) -> 5.965952
B19: 300 | C19: =AVERAGE('001'!C19,'002'!C19,'003'!C19,'004'!C19,'006'!C19,'007'!C19,'008'!C19) -> 3.5562619 | D19: =AVERAGE('001'!D19,'002'!D19,'003'!D19,'004'!D19,'006'!D19,'007'!D19,'008'!D19) -> 2.8299728 | E19: =AVERAGE('001'!E19,'002'!E19,'003'!E19,'004'!E19,'006'!E19,'007'!E19,'008'!E19) -> 2.9590915 | F19: =AVERAGE('001'!F19,'002'!F19,'003'!F19,'004'!F19,'006'!F19,'007'!F19,'008'!F19) -> 4.318986 | G19: =AVERAGE('001'!G19,'002'!G19,'003'!G19,'004'!G19,'006'!G19,'007'!G19,'008'!G19) -> 6.0474627
B20: 400 | C20: =AVERAGE('001'!C20,'002'!C20,'003'!C20,'004'!C20,'006'!C20,'007'!C20,'008'!C20) -> 4.1030058 | D20: =AVERAGE('001'!D20,'002'!D20,'003'!D20,'004'!D20,'006'!D20,'007'!D20,'008'!D20) -> 2.9511175 | E20: =AVERAGE('001'!E20,'002'!E20,'003'!E20,'004'!E20,'006'!E20,'007'!E20,'008'!E20) -> 3.0142252 | F20: =AVERAGE('001'!F20,'002'!F20,'003'!F20,'004'!F20,'006'!F20,'007'!F20,'008'!F20) -> 4.3461896 | G20: =AVERAGE('001'!G20,'002'!G20,'003'!G20,'004'!G20,'006'!G20,'007'!G20,'008'!G20) -> 6.0867417
B21: 500 | C21: =AVERAGE('001'!C21,'002'!C21,'003'!C21,'004'!C21,'006'!C21,'007'!C21,'008'!C21) -> 4.2054376 | D21: =AVERAGE('001'!D21,'002'!D21,'003'!D21,'004'!D21,'006'!D21,'007'!D21,'008'!D21) -> 3.0662133 | E21: =AVERAGE('001'!E21,'002'!E21,'003'!E21,'004'!E21,'006'!E21,'007'!E21,'008'!E21) -> 3.0729124 | F21: =AVERAGE('001'!F21,'002'!F21,'003'!F21,'004'!F21,'006'!F21,'007'!F21,'008'!F21) -> 4.4135121 | G21: =AVERAGE('001'!G21,'002'!G21,'003'!G21,'004'!G21,'006'!G21,'007'!G21,'008'!G21) -> 6.1289146
B22: 600 | C22: =AVERAGE('001'!C22,'002'!C22,'003'!C22,'004'!C22,'006'!C22,'007'!C22,'008'!C22) -> 4.2334733 | D22: =AVERAGE('001'!D22,'002'!D22,'003'!D22,'004'!D22,'006'!D22,'007'!D22,'008'!D22) -> 3.1841019 | E22: =AVERAGE('001'!E22,'002'!E22,'003'!E22,'004'!E22,'006'!E22,'007'!E22,'008'!E22) -> 3.128575 | F22: =AVERAGE('001'!F22,'002'!F22,'003'!F22,'004'!F22,'006'!F22,'007'!F22,'008'!F22) -> 4.4511938 | G22: =AVERAGE('001'!G22,'002'!G22,'003'!G22,'004'!G22,'006'!G22,'007'!G22,'008'!G22) -> 6.1889804
C24: Superior Translation (mm)
B25: Quad Load (N) | E25: Flexion (deg)
C26: 0 | D26: 15 | E26: 30 | F26: 45 | G26: 60
B27: 20 | C27: =AVERAGE('001'!C27,'002'!C27,'003'!C27,'004'!C27,'006'!C27,'007'!C27,'008'!C27) -> 3.1693145 | D27: =AVERAGE('001'!D27,'002'!D27,'003'!D27,'004'!D27,'006'!D27,'007'!D27,'008'!D27) -> -1.1358027 | E27: =AVERAGE('001'!E27,'002'!E27,'003'!E27,'004'!E27,'006'!E27,'007'!E27,'008'!E27) -> -7.3455753 | F27: =AVERAGE('001'!F27,'002'!F27,'003'!F27,'004'!F27,'006'!F27,'007'!F27,'008'!F27) -> -12.002683 | G27: =AVERAGE('001'!G27,'002'!G27,'003'!G27,'004'!G27,'006'!G27,'007'!G27,'008'!G27) -> -14.972303
B28: 100 | C28: =AVERAGE('001'!C28,'002'!C28,'003'!C28,'004'!C28,'006'!C28,'007'!C28,'008'!C28) -> 6.132416 | D28: =AVERAGE('001'!D28,'002'!D28,'003'!D28,'004'!D28,'006'!D28,'007'!D28,'008'!D28) -> 0.011502525 | E28: =AVERAGE('001'!E28,'002'!E28,'003'!E28,'004'!E28,'006'!E28,'007'!E28,'008'!E28) -> -6.9379363 | F28: =AVERAGE('001'!F28,'002'!F28,'003'!F28,'004'!F28,'006'!F28,'007'!F28,'008'!F28) -> -11.856031 | G28: =AVERAGE('001'!G28,'002'!G28,'003'!G28,'004'!G28,'006'!G28,'007'!G28,'008'!G28) -> -14.846259
B29: 200 | C29: =AVERAGE('001'!C29,'002'!C29,'003'!C29,'004'!C29,'006'!C29,'007'!C29,'008'!C29) -> 7.1862017 | D29: =AVERAGE('001'!D29,'002'!D29,'003'!D29,'004'!D29,'006'!D29,'007'!D29,'008'!D29) -> 0.45826493 | E29: =AVERAGE('001'!E29,'002'!E29,'003'!E29,'004'!E29,'006'!E29,'007'!E29,'008'!E29) -> -6.6794572 | F29: =AVERAGE('001'!F29,'002'!F29,'003'!F29,'004'!F29,'006'!F29,'007'!F29,'008'!F29) -> -11.705389 | G29: =AVERAGE('001'!G29,'002'!G29,'003'!G29,'004'!G29,'006'!G29,'007'!G29,'008'!G29) -> -14.749311
B30: 300 | C30: =AVERAGE('001'!C30,'002'!C30,'003'!C30,'004'!C30,'006'!C30,'007'!C30,'008'!C30) -> 7.7935972 | D30: =AVERAGE('001'!D30,'002'!D30,'003'!D30,'004'!D30,'006'!D30,'007'!D30,'008'!D30) -> 0.79544271 | E30: =AVERAGE('001'!E30,'002'!E30,'003'!E30,'004'!E30,'006'!E30,'007'!E30,'008'!E30) -> -6.4725567 | F30: =AVERAGE('001'!F30,'002'!F30,'003'!F30,'004'!F30,'006'!F30,'007'!F30,'008'!F30) -> -11.645475 | G30: =AVERAGE('001'!G30,'002'!G30,'003'!G30,'004'!G30,'006'!G30,'007'!G30,'008'!G30) -> -14.785567
B31: 400 | C31: =AVERAGE('001'!C31,'002'!C31,'003'!C31,'004'!C31,'006'!C31,'007'!C31,'008'!C31) -> 8.0644326 | D31: =AVERAGE('001'!D31,'002'!D31,'003'!D31,'004'!D31,'006'!D31,'007'!D31,'008'!D31) -> 1.0025992 | E31: =AVERAGE('001'!E31,'002'!E31,'003'!E31,'004'!E31,'006'!E31,'007'!E31,'008'!E31) -> -6.3574401 | F31: =AVERAGE('001'!F31,'002'!F31,'003'!F31,'004'!F31,'006'!F31,'007'!F31,'008'!F31) -> -11.514354 | G31: =AVERAGE('001'!G31,'002'!G31,'003'!G31,'004'!G31,'006'!G31,'007'!G31,'008'!G31) -> -14.725031
B32: 500 | C32: =AVERAGE('001'!C32,'002'!C32,'003'!C32,'004'!C32,'006'!C32,'007'!C32,'008'!C32) -> 8.4302321 | D32: =AVERAGE('001'!D32,'002'!D32,'003'!D32,'004'!D32,'006'!D32,'007'!D32,'008'!D32) -> 1.1747669 | E32: =AVERAGE('001'!E32,'002'!E32,'003'!E32,'004'!E32,'006'!E32,'007'!E32,'008'!E32) -> -6.2369332 | F32: =AVERAGE('001'!F32,'002'!F32,'003'!F32,'004'!F32,'006'!F32,'007'!F32,'008'!F32) -> -11.479649 | G32: =AVERAGE('001'!G32,'002'!G32,'003'!G32,'004'!G32,'006'!G32,'007'!G32,'008'!G32) -> -14.653014
B33: 600 | C33: =AVERAGE('001'!C33,'002'!C33,'003'!C33,'004'!C33,'006'!C33,'007'!C33,'008'!C33) -> 8.6832071 | D33: =AVERAGE('001'!D33,'002'!D33,'003'!D33,'004'!D33,'006'!D33,'007'!D33,'008'!D33) -> 1.3278615 | E33: =AVERAGE('001'!E33,'002'!E33,'003'!E33,'004'!E33,'006'!E33,'007'!E33,'008'!E33) -> -6.1683479 | F33: =AVERAGE('001'!F33,'002'!F33,'003'!F33,'004'!F33,'006'!F33,'007'!F33,'008'!F33) -> -11.403756 | G33: =AVERAGE('001'!G33,'002'!G33,'003'!G33,'004'!G33,'006'!G33,'007'!G33,'008'!G33) -> -14.562251
C35: Flexion (degrees)
E36: Flexion (deg)
B37: Quad Load (N) | C37: 0 | D37: 15 | E37: 30 | F37: 45 | G37: 60
B38: 20 | C38: =AVERAGE('001'!C38,'002'!C38,'003'!C38,'004'!C38,'006'!C38,'007'!C38,'008'!C38) -> -2.0955948 | D38: =AVERAGE('001'!D38,'002'!D38,'003'!D38,'004'!D38,'006'!D38,'007'!D38,'008'!D38) -> 5.9247165 | E38: =AVERAGE('001'!E38,'002'!E38,'003'!E38,'004'!E38,'006'!E38,'007'!E38,'008'!E38) -> 13.87805 | F38: =AVERAGE('001'!F38,'002'!F38,'003'!F38,'004'!F38,'006'!F38,'007'!F38,'008'!F38) -> 22.891559 | G38: =AVERAGE('001'!G38,'002'!G38,'003'!G38,'004'!G38,'006'!G38,'007'!G38,'008'!G38) -> 33.138721
B39: 100 | C39: =AVERAGE('001'!C39,'002'!C39,'003'!C39,'004'!C39,'006'!C39,'007'!C39,'008'!C39) -> -1.6088111 | D39: =AVERAGE('001'!D39,'002'!D39,'003'!D39,'004'!D39,'006'!D39,'007'!D39,'008'!D39) -> 6.4422892 | E39: =AVERAGE('001'!E39,'002'!E39,'003'!E39,'004'!E39,'006'!E39,'007'!E39,'008'!E39) -> 13.513903 | F39: =AVERAGE('001'!F39,'002'!F39,'003'!F39,'004'!F39,'006'!F39,'007'!F39,'008'!F39) -> 22.416044 | G39: =AVERAGE('001'!G39,'002'!G39,'003'!G39,'004'!G39,'006'!G39,'007'!G39,'008'!G39) -> 32.718095
B40: 200 | C40: =AVERAGE('001'!C40,'002'!C40,'003'!C40,'004'!C40,'006'!C40,'007'!C40,'008'!C40) -> -0.81836806 | D40: =AVERAGE('001'!D40,'002'!D40,'003'!D40,'004'!D40,'006'!D40,'007'!D40,'008'!D40) -> 6.5000992 | E40: =AVERAGE('001'!E40,'002'!E40,'003'!E40,'004'!E40,'006'!E40,'007'!E40,'008'!E40) -> 13.3049 | F40: =AVERAGE('001'!F40,'002'!F40,'003'!F40,'004'!F40,'006'!F40,'007'!F40,'008'!F40) -> 22.132621 | G40: =AVERAGE('001'!G40,'002'!G40,'003'!G40,'004'!G40,'006'!G40,'007'!G40,'008'!G40) -> 32.402423
B41: 300 | C41: =AVERAGE('001'!C41,'002'!C41,'003'!C41,'004'!C41,'006'!C41,'007'!C41,'008'!C41) -> -0.4718475 | D41: =AVERAGE('001'!D41,'002'!D41,'003'!D41,'004'!D41,'006'!D41,'007'!D41,'008'!D41) -> 6.4492509 | E41: =AVERAGE('001'!E41,'002'!E41,'003'!E41,'004'!E41,'006'!E41,'007'!E41,'008'!E41) -> 13.112518 | F41: =AVERAGE('001'!F41,'002'!F41,'003'!F41,'004'!F41,'006'!F41,'007'!F41,'008'!F41) -> 21.857618 | G41: =AVERAGE('001'!G41,'002'!G41,'003'!G41,'004'!G41,'006'!G41,'007'!G41,'008'!G41) -> 32.149449
B42: 400 | C42: =AVERAGE('001'!C42,'002'!C42,'003'!C42,'004'!C42,'006'!C42,'007'!C42,'008'!C42) -> -0.17682932 | D42: =AVERAGE('001'!D42,'002'!D42,'003'!D42,'004'!D42,'006'!D42,'007'!D42,'008'!D42) -> 6.3060811 | E42: =AVERAGE('001'!E42,'002'!E42,'003'!E42,'004'!E42,'006'!E42,'007'!E42,'008'!E42) -> 12.884222 | F42: =AVERAGE('001'!F42,'002'!F42,'003'!F42,'004'!F42,'006'!F42,'007'!F42,'008'!F42) -> 21.658553 | G42: =AVERAGE('001'!G42,'002'!G42,'003'!G42,'004'!G42,'006'!G42,'007'!G42,'008'!G42) -> 31.958365
B43: 500 | C43: =AVERAGE('001'!C43,'002'!C43,'003'!C43,'004'!C43,'006'!C43,'007'!C43,'008'!C43) -> -0.065865922 | D43: =AVERAGE('001'!D43,'002'!D43,'003'!D43,'004'!D43,'006'!D43,'007'!D43,'008'!D43) -> 6.1882523 | E43: =AVERAGE('001'!E43,'002'!E43,'003'!E43,'004'!E43,'006'!E43,'007'!E43,'008'!E43) -> 12.693081 | F43: =AVERAGE('001'!F43,'002'!F43,'003'!F43,'004'!F43,'006'!F43,'007'!F43,'008'!F43) -> 21.44378 | G43: =AVERAGE('001'!G43,'002'!G43,'003'!G43,'004'!G43,'006'!G43,'007'!G43,'008'!G43) -> 31.800603
B44: 600 | C44: =AVERAGE('001'!C44,'002'!C44,'003'!C44,'004'!C44,'006'!C44,'007'!C44,'008'!C44) -> -0.069497194 | D44: =AVERAGE('001'!D44,'002'!D44,'003'!D44,'004'!D44,'006'!D44,'007'!D44,'008'!D44) -> 6.05989 | E44: =AVERAGE('001'!E44,'002'!E44,'003'!E44,'004'!E44,'006'!E44,'007'!E44,'008'!E44) -> 12.47542 | F44: =AVERAGE('001'!F44,'002'!F44,'003'!F44,'004'!F44,'006'!F44,'007'!F44,'008'!F44) -> 21.28866 | G44: =AVERAGE('001'!G44,'002'!G44,'003'!G44,'004'!G44,'006'!G44,'007'!G44,'008'!G44) -> 31.671887
C46: Valgus (degrees)
B47: Quad Load (N) | E47: Flexion (deg)
C48: 0 | D48: 15 | E48: 30 | F48: 45 | G48: 60
B49: 20 | C49: =AVERAGE('001'!C49,'002'!C49,'003'!C49,'004'!C49,'006'!C49,'007'!C49,'008'!C49) -> -1.9559692 | D49: =AVERAGE('001'!D49,'002'!D49,'003'!D49,'004'!D49,'006'!D49,'007'!D49,'008'!D49) -> -1.5430306 | E49: =AVERAGE('001'!E49,'002'!E49,'003'!E49,'004'!E49,'006'!E49,'007'!E49,'008'!E49) -> -0.63609122 | F49: =AVERAGE('001'!F49,'002'!F49,'003'!F49,'004'!F49,'006'!F49,'007'!F49,'008'!F49) -> 0.53269123 | G49: =AVERAGE('001'!G49,'002'!G49,'003'!G49,'004'!G49,'006'!G49,'007'!G49,'008'!G49) -> 1.9086367
B50: 100 | C50: =AVERAGE('001'!C50,'002'!C50,'003'!C50,'004'!C50,'006'!C50,'007'!C50,'008'!C50) -> -2.6490282 | D50: =AVERAGE('001'!D50,'002'!D50,'003'!D50,'004'!D50,'006'!D50,'007'!D50,'008'!D50) -> -1.6695076 | E50: =AVERAGE('001'!E50,'002'!E50,'003'!E50,'004'!E50,'006'!E50,'007'!E50,'008'!E50) -> -0.68459925 | F50: =AVERAGE('001'!F50,'002'!F50,'003'!F50,'004'!F50,'006'!F50,'007'!F50,'008'!F50) -> 0.61202368 | G50: =AVERAGE('001'!G50,'002'!G50,'003'!G50,'004'!G50,'006'!G50,'007'!G50,'008'!G50) -> 1.8558677
B51: 200 | C51: =AVERAGE('001'!C51,'002'!C51,'003'!C51,'004'!C51,'006'!C51,'007'!C51,'008'!C51) -> -2.9046264 | D51: =AVERAGE('001'!D51,'002'!D51,'003'!D51,'004'!D51,'006'!D51,'007'!D51,'008'!D51) -> -1.7587814 | E51: =AVERAGE('001'!E51,'002'!E51,'003'!E51,'004'!E51,'006'!E51,'007'!E51,'008'!E51) -> -0.73571972 | F51: =AVERAGE('001'!F51,'002'!F51,'003'!F51,'004'!F51,'006'!F51,'007'!F51,'008'!F51) -> 0.61226157 | G51: =AVERAGE('001'!G51,'002'!G51,'003'!G51,'004'!G51,'006'!G51,'007'!G51,'008'!G51) -> 1.8694728
B52: 300 | C52: =AVERAGE('001'!C52,'002'!C52,'003'!C52,'004'!C52,'006'!C52,'007'!C52,'008'!C52) -> -2.9676394 | D52: =AVERAGE('001'!D52,'002'!D52,'003'!D52,'004'!D52,'006'!D52,'007'!D52,'008'!D52) -> -1.8168312 | E52: =AVERAGE('001'!E52,'002'!E52,'003'!E52,'004'!E52,'006'!E52,'007'!E52,'008'!E52) -> -0.76739712 | F52: =AVERAGE('001'!F52,'002'!F52,'003'!F52,'004'!F52,'006'!F52,'007'!F52,'008'!F52) -> 0.60170532 | G52: =AVERAGE('001'!G52,'002'!G52,'003'!G52,'004'!G52,'006'!G52,'007'!G52,'008'!G52) -> 1.8472846
B53: 400 | C53: =AVERAGE('001'!C53,'002'!C53,'003'!C53,'004'!C53,'006'!C53,'007'!C53,'008'!C53) -> -3.0739421 | D53: =AVERAGE('001'!D53,'002'!D53,'003'!D53,'004'!D53,'006'!D53,'007'!D53,'008'!D53) -> -1.8431453 | E53: =AVERAGE('001'!E53,'002'!E53,'003'!E53,'004'!E53,'006'!E53,'007'!E53,'008'!E53) -> -0.8026019 | F53: =AVERAGE('001'!F53,'002'!F53,'003'!F53,'004'!F53,'006'!F53,'007'!F53,'008'!F53) -> 0.56790352 | G53: =AVERAGE('001'!G53,'002'!G53,'003'!G53,'004'!G53,'006'!G53,'007'!G53,'008'!G53) -> 1.8256644
B54: 500 | C54: =AVERAGE('001'!C54,'002'!C54,'003'!C54,'004'!C54,'006'!C54,'007'!C54,'008'!C54) -> -3.1409753 | D54: =AVERAGE('001'!D54,'002'!D54,'003'!D54,'004'!D54,'006'!D54,'007'!D54,'008'!D54) -> -1.9176507 | E54: =AVERAGE('001'!E54,'002'!E54,'003'!E54,'004'!E54,'006'!E54,'007'!E54,'008'!E54) -> -0.85924295 | F54: =AVERAGE('001'!F54,'002'!F54,'003'!F54,'004'!F54,'006'!F54,'007'!F54,'008'!F54) -> 0.54216156 | G54: =AVERAGE('001'!G54,'002'!G54,'003'!G54,'004'!G54,'006'!G54,'007'!G54,'008'!G54) -> 1.7760052
B55: 600 | C55: =AVERAGE('001'!C55,'002'!C55,'003'!C55,'004'!C55,'006'!C55,'007'!C55,'008'!C55) -> -3.2032301 | D55: =AVERAGE('001'!D55,'002'!D55,'003'!D55,'004'!D55,'006'!D55,'007'!D55,'008'!D55) -> -1.9840249 | E55: =AVERAGE('001'!E55,'002'!E55,'003'!E55,'004'!E55,'006'!E55,'007'!E55,'008'!E55) -> -0.90360733 | F55: =AVERAGE('001'!F55,'002'!F55,'003'!F55,'004'!F55,'006'!F55,'007'!F55,'008'!F55) -> 0.51353299 | G55: =AVERAGE('001'!G55,'002'!G55,'003'!G55,'004'!G55,'006'!G55,'007'!G55,'008'!G55) -> 1.7084848
C57: IR (degrees)
B58: Quad Load (N) | E58: Flexion (deg)
C59: 0 | D59: 15 | E59: 30 | F59: 45 | G59: 60
B60: 20 | C60: =AVERAGE('001'!C60,'002'!C60,'003'!C60,'004'!C60,'006'!C60,'007'!C60,'008'!C60) -> 1.2327336 | D60: =AVERAGE('001'!D60,'002'!D60,'003'!D60,'004'!D60,'006'!D60,'007'!D60,'008'!D60) -> 2.9952603 | E60: =AVERAGE('001'!E60,'002'!E60,'003'!E60,'004'!E60,'006'!E60,'007'!E60,'008'!E60) -> 1.9428087 | F60: =AVERAGE('001'!F60,'002'!F60,'003'!F60,'004'!F60,'006'!F60,'007'!F60,'008'!F60) -> 0.28559732 | G60: =AVERAGE('001'!G60,'002'!G60,'003'!G60,'004'!G60,'006'!G60,'007'!G60,'008'!G60) -> -1.2707116
B61: 100 | C61: =AVERAGE('001'!C61,'002'!C61,'003'!C61,'004'!C61,'006'!C61,'007'!C61,'008'!C61) -> 1.8010574 | D61: =AVERAGE('001'!D61,'002'!D61,'003'!D61,'004'!D61,'006'!D61,'007'!D61,'008'!D61) -> 3.5495483 | E61: =AVERAGE('001'!E61,'002'!E61,'003'!E61,'004'!E61,'006'!E61,'007'!E61,'008'!E61) -> 2.6055391 | F61: =AVERAGE('001'!F61,'002'!F61,'003'!F61,'004'!F61,'006'!F61,'007'!F61,'008'!F61) -> 0.95299683 | G61: =AVERAGE('001'!G61,'002'!G61,'003'!G61,'004'!G61,'006'!G61,'007'!G61,'008'!G61) -> -1.0211416
B62: 200 | C62: =AVERAGE('001'!C62,'002'!C62,'003'!C62,'004'!C62,'006'!C62,'007'!C62,'008'!C62) -> 1.9478475 | D62: =AVERAGE('001'!D62,'002'!D62,'003'!D62,'004'!D62,'006'!D62,'007'!D62,'008'!D62) -> 3.6747101 | E62: =AVERAGE('001'!E62,'002'!E62,'003'!E62,'004'!E62,'006'!E62,'007'!E62,'008'!E62) -> 2.8306523 | F62: =AVERAGE('001'!F62,'002'!F62,'003'!F62,'004'!F62,'006'!F62,'007'!F62,'008'!F62) -> 1.2326021 | G62: =AVERAGE('001'!G62,'002'!G62,'003'!G62,'004'!G62,'006'!G62,'007'!G62,'008'!G62) -> -0.85543127
B63: 300 | C63: =AVERAGE('001'!C63,'002'!C63,'003'!C63,'004'!C63,'006'!C63,'007'!C63,'008'!C63) -> 1.9699214 | D63: =AVERAGE('001'!D63,'002'!D63,'003'!D63,'004'!D63,'006'!D63,'007'!D63,'008'!D63) -> 3.7319779 | E63: =AVERAGE('001'!E63,'002'!E63,'003'!E63,'004'!E63,'006'!E63,'007'!E63,'008'!E63) -> 2.9204204 | F63: =AVERAGE('001'!F63,'002'!F63,'003'!F63,'004'!F63,'006'!F63,'007'!F63,'008'!F63) -> 1.380584 | G63: =AVERAGE('001'!G63,'002'!G63,'003'!G63,'004'!G63,'006'!G63,'007'!G63,'008'!G63) -> -0.76571464
B64: 400 | C64: =AVERAGE('001'!C64,'002'!C64,'003'!C64,'004'!C64,'006'!C64,'007'!C64,'008'!C64) -> 1.989819 | D64: =AVERAGE('001'!D64,'002'!D64,'003'!D64,'004'!D64,'006'!D64,'007'!D64,'008'!D64) -> 3.7106209 | E64: =AVERAGE('001'!E64,'002'!E64,'003'!E64,'004'!E64,'006'!E64,'007'!E64,'008'!E64) -> 2.9774007 | F64: =AVERAGE('001'!F64,'002'!F64,'003'!F64,'004'!F64,'006'!F64,'007'!F64,'008'!F64) -> 1.4773831 | G64: =AVERAGE('001'!G64,'002'!G64,'003'!G64,'004'!G64,'006'!G64,'007'!G64,'008'!G64) -> -0.68465294
B65: 500 | C65: =AVERAGE('001'!C65,'002'!C65,'003'!C65,'004'!C65,'006'!C65,'007'!C65,'008'!C65) -> 1.869075 | D65: =AVERAGE('001'!D65,'002'!D65,'003'!D65,'004'!D65,'006'!D65,'007'!D65,'008'!D65) -> 3.7014454 | E65: =AVERAGE('001'!E65,'002'!E65,'003'!E65,'004'!E65,'006'!E65,'007'!E65,'008'!E65) -> 3.0064665 | F65: =AVERAGE('001'!F65,'002'!F65,'003'!F65,'004'!F65,'006'!F65,'007'!F65,'008'!F65) -> 1.5565239 | G65: =AVERAGE('001'!G65,'002'!G65,'003'!G65,'004'!G65,'006'!G65,'007'!G65,'008'!G65) -> -0.65539727
B66: 600 | C66: =AVERAGE('001'!C66,'002'!C66,'003'!C66,'004'!C66,'006'!C66,'007'!C66,'008'!C66) -> 1.7015452 | D66: =AVERAGE('001'!D66,'002'!D66,'003'!D66,'004'!D66,'006'!D66,'007'!D66,'008'!D66) -> 3.6607856 | E66: =AVERAGE('001'!E66,'002'!E66,'003'!E66,'004'!E66,'006'!E66,'007'!E66,'008'!E66) -> 3.04614 | F66: =AVERAGE('001'!F66,'002'!F66,'003'!F66,'004'!F66,'006'!F66,'007'!F66,'008'!F66) -> 1.6183988 | G66: =AVERAGE('001'!G66,'002'!G66,'003'!G66,'004'!G66,'006'!G66,'007'!G66,'008'!G66) -> -0.60503809

Sheet Standard Deviation
C2: Medial Translation (mm)
E3: Flexion (deg)
B4: Quad Load (N) | C4: 0 | D4: 15 | E4: 30 | F4: 45 | G4: 60
B5: 20 | C5: =STDEV('001'!C5,'002'!C5,'003'!C5,'004'!C5,'006'!C5,'007'!C5,'008'!C5) -> 2.1177854 | D5: =STDEV('001'!D5,'002'!D5,'003'!D5,'004'!D5,'006'!D5,'007'!D5,'008'!D5) -> 2.0497144 | E5: =STDEV('001'!E5,'002'!E5,'003'!E5,'004'!E5,'006'!E5,'007'!E5,'008'!E5) -> 2.8469479 | F5: =STDEV('001'!F5,'002'!F5,'003'!F5,'004'!F5,'006'!F5,'007'!F5,'008'!F5) -> 3.8500174 | G5: =STDEV('001'!G5,'002'!G5,'003'!G5,'004'!G5,'006'!G5,'007'!G5,'008'!G5) -> 4.7199176
B6: 100 | C6: =STDEV('001'!C6,'002'!C6,'003'!C6,'004'!C6,'006'!C6,'007'!C6,'008'!C6) -> 2.9325224 | D6: =STDEV('001'!D6,'002'!D6,'003'!D6,'004'!D6,'006'!D6,'007'!D6,'008'!D6) -> 2.4573352 | E6: =STDEV('001'!E6,'002'!E6,'003'!E6,'004'!E6,'006'!E6,'007'!E6,'008'!E6) -> 2.8118818 | F6: =STDEV('001'!F6,'002'!F6,'003'!F6,'004'!F6,'006'!F6,'007'!F6,'008'!F6) -> 3.8092441 | G6: =STDEV('001'!G6,'002'!G6,'003'!G6,'004'!G6,'006'!G6,'007'!G6,'008'!G6) -> 4.7619293
B7: 200 | C7: =STDEV('001'!C7,'002'!C7,'003'!C7,'004'!C7,'006'!C7,'007'!C7,'008'!C7) -> 3.1630138 | D7: =STDEV('001'!D7,'002'!D7,'003'!D7,'004'!D7,'006'!D7,'007'!D7,'008'!D7) -> 2.4662011 | E7: =STDEV('001'!E7,'002'!E7,'003'!E7,'004'!E7,'006'!E7,'007'!E7,'008'!E7) -> 2.744905 | F7: =STDEV('001'!F7,'002'!F7,'003'!F7,'004'!F7,'006'!F7,'007'!F7,'008'!F7) -> 3.7594309 | G7: =STDEV('001'!G7,'002'!G7,'003'!G7,'004'!G7,'006'!G7,'007'!G7,'008'!G7) -> 4.7616263
B8: 300 | C8: =STDEV('001'!C8,'002'!C8,'003'!C8,'004'!C8,'006'!C8,'007'!C8,'008'!C8) -> 3.230799 | D8: =STDEV('001'!D8,'002'!D8,'003'!D8,'004'!D8,'006'!D8,'007'!D8,'008'!D8) -> 2.471856 | E8: =STDEV('001'!E8,'002'!E8,'003'!E8,'004'!E8,'006'!E8,'007'!E8,'008'!E8) -> 2.7072843 | F8: =STDEV('001'!F8,'002'!F8,'003'!F8,'004'!F8,'006'!F8,'007'!F8,'008'!F8) -> 3.7458558 | G8: =STDEV('001'!G8,'002'!G8,'003'!G8,'004'!G8,'006'!G8,'007'!G8,'008'!G8) -> 4.7584544
B9: 400 | C9: =STDEV('001'!C9,'002'!C9,'003'!C9,'004'!C9,'006'!C9,'007'!C9,'008'!C9) -> 3.3195773 | D9: =STDEV('001'!D9,'002'!D9,'003'!D9,'004'!D9,'006'!D9,'007'!D9,'008'!D9) -> 2.4607178 | E9: =STDEV('001'!E9,'002'!E9,'003'!E9,'004'!E9,'006'!E9,'007'!E9,'008'!E9) -> 2.6831597 | F9: =STDEV('001'!F9,'002'!F9,'003'!F9,'004'!F9,'006'!F9,'007'!F9,'008'!F9) -> 3.7027813 | G9: =STDEV('001'!G9,'002'!G9,'003'!G9,'004'!G9,'006'!G9,'007'!G9,'008'!G9) -> 4.7482503
B10: 500 | C10: =STDEV('001'!C10,'002'!C10,'003'!C10,'004'!C10,'006'!C10,'007'!C10,'008'!C10) -> 3.3465645 | D10: =STDEV('001'!D10,'002'!D10,'003'!D10,'004'!D10,'006'!D10,'007'!D10,'008'!D10) -> 2.4418512 | E10: =STDEV('001'!E10,'002'!E10,'003'!E10,'004'!E10,'006'!E10,'007'!E10,'008'!E10) -> 2.6717333 | F10: =STDEV('001'!F10,'002'!F10,'003'!F10,'004'!F10,'006'!F10,'007'!F10,'008'!F10) -> 3.6962404 | G10: =STDEV('001'!G10,'002'!G10,'003'!G10,'004'!G10,'006'!G10,'007'!G10,'008'!G10) -> 4.7446842
B11: 600 | C11: =STDEV('001'!C11,'002'!C11,'003'!C11,'004'!C11,'006'!C11,'007'!C11,'008'!C11) -> 3.3421508 | D11: =STDEV('001'!D11,'002'!D11,'003'!D11,'004'!D11,'006'!D11,'007'!D11,'008'!D11) -> 2.4309771 | E11: =STDEV('001'!E11,'002'!E11,'003'!E11,'004'!E11,'006'!E11,'007'!E11,'008'!E11) -> 2.6406602 | F11: =STDEV('001'!F11,'002'!F11,'003'!F11,'004'!F11,'006'!F11,'007'!F11,'008'!F11) -> 3.6740747 | G11: =STDEV('001'!G11,'002'!G11,'003'!G11,'004'!G11,'006'!G11,'007'!G11,'008'!G11) -> 4.7505998
C13: Posterior Translation (mm)
B14: Quad Load (N) | E14: Flexion (deg)
C15: 0 | D15: 15 | E15: 30 | F15: 45 | G15: 60
B16: 20 | C16: =STDEV('001'!C16,'002'!C16,'003'!C16,'004'!C16,'006'!C16,'007'!C16,'008'!C16) -> 3.2594587 | D16: =STDEV('001'!D16,'002'!D16,'003'!D16,'004'!D16,'006'!D16,'007'!D16,'008'!D16) -> 2.7252398 | E16: =STDEV('001'!E16,'002'!E16,'003'!E16,'004'!E16,'006'!E16,'007'!E16,'008'!E16) -> 2.4608226 | F16: =STDEV('001'!F16,'002'!F16,'003'!F16,'004'!F16,'006'!F16,'007'!F16,'008'!F16) -> 2.4568978 | G16: =STDEV('001'!G16,'002'!G16,'003'!G16,'004'!G16,'006'!G16,'007'!G16,'008'!G16) -> 3.6087876
B17: 100 | C17: =STDEV('001'!C17,'002'!C17,'003'!C17,'004'!C17,'006'!C17,'007'!C17,'008'!C17) -> 3.6053626 | D17: =STDEV('001'!D17,'002'!D17,'003'!D17,'004'!D17,'006'!D17,'007'!D17,'008'!D17) -> 2.7797008 | E17: =STDEV('001'!E17,'002'!E17,'003'!E17,'004'!E17,'006'!E17,'007'!E17,'008'!E17) -> 2.4581619 | F17: =STDEV('001'!F17,'002'!F17,'003'!F17,'004'!F17,'006'!F17,'007'!F17,'008'!F17) -> 2.4330546 | G17: =STDEV('001'!G17,'002'!G17,'003'!G17,'004'!G17,'006'!G17,'007'!G17,'008'!G17) -> 3.5443708
B18: 200 | C18: =STDEV('001'!C18,'002'!C18,'003'!C18,'004'!C18,'006'!C18,'007'!C18,'008'!C18) -> 3.7133516 | D18: =STDEV('001'!D18,'002'!D18,'003'!D18,'004'!D18,'006'!D18,'007'!D18,'008'!D18) -> 2.7749552 | E18: =STDEV('001'!E18,'002'!E18,'003'!E18,'004'!E18,'006'!E18,'007'!E18,'008'!E18) -> 2.4642741 | F18: =STDEV('001'!F18,'002'!F18,'003'!F18,'004'!F18,'006'!F18,'007'!F18,'008'!F18) -> 2.40832 | G18: =STDEV('001'!G18,'002'!G18,'003'!G18,'004'!G18,'006'!G18,'007'!G18,'008'!G18) -> 3.5221045
B19: 300 | C19: =STDEV('001'!C19,'002'!C19,'003'!C19,'004'!C19,'006'!C19,'007'!C19,'008'!C19) -> 3.8275608 | D19: =STDEV('001'!D19,'002'!D19,'003'!D19,'004'!D19,'006'!D19,'007'!D19,'008'!D19) -> 2.7494501 | E19: =STDEV('001'!E19,'002'!E19,'003'!E19,'004'!E19,'006'!E19,'007'!E19,'008'!E19) -> 2.4725746 | F19: =STDEV('001'!F19,'002'!F19,'003'!F19,'004'!F19,'006'!F19,'007'!F19,'008'!F19) -> 2.430947 | G19: =STDEV('001'!G19,'002'!G19,'003'!G19,'004'!G19,'006'!G19,'007'!G19,'008'!G19) -> 3.5178513
B20: 400 | C20: =STDEV('001'!C20,'002'!C20,'003'!C20,'004'!C20,'006'!C20,'007'!C20,'008'!C20) -> 3.7704116 | D20: =STDEV('001'!D20,'002'!D20,'003'!D20,'004'!D20,'006'!D20,'007'!D20,'008'!D20) -> 2.7443686 | E20: =STDEV('001'!E20,'002'!E20,'003'!E20,'004'!E20,'006'!E20,'007'!E20,'008'!E20) -> 2.4994215 | F20: =STDEV('001'!F20,'002'!F20,'003'!F20,'004'!F20,'006'!F20,'007'!F20,'008'!F20) -> 2.4409959 | G20: =STDEV('001'!G20,'002'!G20,'003'!G20,'004'!G20,'006'!G20,'007'!G20,'008'!G20) -> 3.5011591
B21: 500 | C21: =STDEV('001'!C21,'002'!C21,'003'!C21,'004'!C21,'006'!C21,'007'!C21,'008'!C21) -> 3.7986309 | D21: =STDEV('001'!D21,'002'!D21,'003'!D21,'004'!D21,'006'!D21,'007'!D21,'008'!D21) -> 2.7519616 | E21: =STDEV('001'!E21,'002'!E21,'003'!E21,'004'!E21,'006'!E21,'007'!E21,'008'!E21) -> 2.5075008 | F21: =STDEV('001'!F21,'002'!F21,'003'!F21,'004'!F21,'006'!F21,'007'!F21,'008'!F21) -> 2.4366251 | G21: =STDEV('001'!G21,'002'!G21,'003'!G21,'004'!G21,'006'!G21,'007'!G21,'008'!G21) -> 3.4838686
B22: 600 | C22: =STDEV('001'!C22,'002'!C22,'003'!C22,'004'!C22,'006'!C22,'007'!C22,'008'!C22) -> 3.7908874 | D22: =STDEV('001'!D22,'002'!D22,'003'!D22,'004'!D22,'006'!D22,'007'!D22,'008'!D22) -> 2.761323 | E22: =STDEV('001'!E22,'002'!E22,'003'!E22,'004'!E22,'006'!E22,'007'!E22,'008'!E22) -> 2.5105005 | F22: =STDEV('001'!F22,'002'!F22,'003'!F22,'004'!F22,'006'!F22,'007'!F22,'008'!F22) -> 2.4068489 | G22: =STDEV('001'!G22,'002'!G22,'003'!G22,'004'!G22,'006'!G22,'007'!G22,'008'!G22) -> 3.5009656
C24: Superior Translation (mm)
B25: Quad Load (N) | E25: Flexion (deg)
C26: 0 | D26: 15 | E26: 30 | F26: 45 | G26: 60
B27: 20 | C27: =STDEV('001'!C27,'002'!C27,'003'!C27,'004'!C27,'006'!C27,'007'!C27,'008'!C27) -> 6.217548 | D27: =STDEV('001'!D27,'002'!D27,'003'!D27,'004'!D27,'006'!D27,'007'!D27,'008'!D27) -> 5.730674 | E27: =STDEV('001'!E27,'002'!E27,'003'!E27,'004'!E27,'006'!E27,'007'!E27,'008'!E27) -> 6.2584919 | F27: =STDEV('001'!F27,'002'!F27,'003'!F27,'004'!F27,'006'!F27,'007'!F27,'008'!F27) -> 5.8608175 | G27: =STDEV('001'!G27,'002'!G27,'003'!G27,'004'!G27,'006'!G27,'007'!G27,'008'!G27) -> 5.2207087
B28: 100 | C28: =STDEV('001'!C28,'002'!C28,'003'!C28,'004'!C28,'006'!C28,'007'!C28,'008'!C28) -> 6.0088472 | D28: =STDEV('001'!D28,'002'!D28,'003'!D28,'004'!D28,'006'!D28,'007'!D28,'008'!D28) -> 6.0738692 | E28: =STDEV('001'!E28,'002'!E28,'003'!E28,'004'!E28,'006'!E28,'007'!E28,'008'!E28) -> 6.2216356 | F28: =STDEV('001'!F28,'002'!F28,'003'!F28,'004'!F28,'006'!F28,'007'!F28,'008'!F28) -> 5.8044214 | G28: =STDEV('001'!G28,'002'!G28,'003'!G28,'004'!G28,'006'!G28,'007'!G28,'008'!G28) -> 5.2492678
B29: 200 | C29: =STDEV('001'!C29,'002'!C29,'003'!C29,'004'!C29,'006'!C29,'007'!C29,'008'!C29) -> 5.9584052 | D29: =STDEV('001'!D29,'002'!D29,'003'!D29,'004'!D29,'006'!D29,'007'!D29,'008'!D29) -> 6.1756146 | E29: =STDEV('001'!E29,'002'!E29,'003'!E29,'004'!E29,'006'!E29,'007'!E29,'008'!E29) -> 6.3359228 | F29: =STDEV('001'!F29,'002'!F29,'003'!F29,'004'!F29,'006'!F29,'007'!F29,'008'!F29) -> 5.8503007 | G29: =STDEV('001'!G29,'002'!G29,'003'!G29,'004'!G29,'006'!G29,'007'!G29,'008'!G29) -> 5.2705701
B30: 300 | C30: =STDEV('001'!C30,'002'!C30,'003'!C30,'004'!C30,'006'!C30,'007'!C30,'008'!C30) -> 5.9796644 | D30: =STDEV('001'!D30,'002'!D30,'003'!D30,'004'!D30,'006'!D30,'007'!D30,'008'!D30) -> 6.2300607 | E30: =STDEV('001'!E30,'002'!E30,'003'!E30,'004'!E30,'006'!E30,'007'!E30,'008'!E30) -> 6.375649 | F30: =STDEV('001'!F30,'002'!F30,'003'!F30,'004'!F30,'006'!F30,'007'!F30,'008'!F30) -> 5.752149 | G30: =STDEV('001'!G30,'002'!G30,'003'!G30,'004'!G30,'006'!G30,'007'!G30,'008'!G30) -> 5.1982864
B31: 400 | C31: =STDEV('001'!C31,'002'!C31,'003'!C31,'004'!C31,'006'!C31,'007'!C31,'008'!C31) -> 6.0187575 | D31: =STDEV('001'!D31,'002'!D31,'003'!D31,'004'!D31,'006'!D31,'007'!D31,'008'!D31) -> 6.2367429 | E31: =STDEV('001'!E31,'002'!E31,'003'!E31,'004'!E31,'006'!E31,'007'!E31,'008'!E31) -> 6.3199024 | F31: =STDEV('001'!F31,'002'!F31,'003'!F31,'004'!F31,'006'!F31,'007'!F31,'008'!F31) -> 5.7588735 | G31: =STDEV('001'!G31,'002'!G31,'003'!G31,'004'!G31,'006'!G31,'007'!G31,'008'!G31) -> 5.2075233
B32: 500 | C32: =STDEV('001'!C32,'002'!C32,'003'!C32,'004'!C32,'006'!C32,'007'!C32,'008'!C32) -> 6.0803138 | D32: =STDEV('001'!D32,'002'!D32,'003'!D32,'004'!D32,'006'!D32,'007'!D32,'008'!D32) -> 6.1700601 | E32: =STDEV('001'!E32,'002'!E32,'003'!E32,'004'!E32,'006'!E32,'007'!E32,'008'!E32) -> 6.351826 | F32: =STDEV('001'!F32,'002'!F32,'003'!F32,'004'!F32,'006'!F32,'007'!F32,'008'!F32) -> 5.7710825 | G32: =STDEV('001'!G32,'002'!G32,'003'!G32,'004'!G32,'006'!G32,'007'!G32,'008'!G32) -> 5.2044899
B33: 600 | C33: =STDEV('001'!C33,'002'!C33,'003'!C33,'004'!C33,'006'!C33,'007'!C33,'008'!C33) -> 5.9621786 | D33: =STDEV('001'!D33,'002'!D33,'003'!D33,'004'!D33,'006'!D33,'007'!D33,'008'!D33) -> 6.1430396 | E33: =STDEV('001'!E33,'002'!E33,'003'!E33,'004'!E33,'006'!E33,'007'!E33,'008'!E33) -> 6.3276827 | F33: =STDEV('001'!F33,'002'!F33,'003'!F33,'004'!F33,'006'!F33,'007'!F33,'008'!F33) -> 5.7882657 | G33: =STDEV('001'!G33,'002'!G33,'003'!G33,'004'!G33,'006'!G33,'007'!G33,'008'!G33) -> 5.2080257
C35: Flexion (degrees)
E36: Flexion (deg)
B37: Quad Load (N) | C37: 0 | D37: 15 | E37: 30 | F37: 45 | G37: 60
B38: 20 | C38: =STDEV('001'!C38,'002'!C38,'003'!C38,'004'!C38,'006'!C38,'007'!C38,'008'!C38) -> 5.6414486 | D38: =STDEV('001'!D38,'002'!D38,'003'!D38,'004'!D38,'006'!D38,'007'!D38,'008'!D38) -> 4.5262481 | E38: =STDEV('001'!E38,'002'!E38,'003'!E38,'004'!E38,'006'!E38,'007'!E38,'008'!E38) -> 3.8658209 | F38: =STDEV('001'!F38,'002'!F38,'003'!F38,'004'!F38,'006'!F38,'007'!F38,'008'!F38) -> 5.1584134 | G38: =STDEV('001'!G38,'002'!G38,'003'!G38,'004'!G38,'006'!G38,'007'!G38,'008'!G38) -> 6.4881984
B39: 100 | C39: =STDEV('001'!C39,'002'!C39,'003'!C39,'004'!C39,'006'!C39,'007'!C39,'008'!C39) -> 5.1732893 | D39: =STDEV('001'!D39,'002'!D39,'003'!D39,'004'!D39,'006'!D39,'007'!D39,'008'!D39) -> 4.4560488 | E39: =STDEV('001'!E39,'002'!E39,'003'!E39,'004'!E39,'006'!E39,'007'!E39,'008'!E39) -> 3.8074657 | F39: =STDEV('001'!F39,'002'!F39,'003'!F39,'004'!F39,'006'!F39,'007'!F39,'008'!F39) -> 5.221709 | G39: =STDEV('001'!G39,'002'!G39,'003'!G39,'004'!G39,'006'!G39,'007'!G39,'008'!G39) -> 6.2681235
B40: 200 | C40: =STDEV('001'!C40,'002'!C40,'003'!C40,'004'!C40,'006'!C40,'007'!C40,'008'!C40) -> 5.1294658 | D40: =STDEV('001'!D40,'002'!D40,'003'!D40,'004'!D40,'006'!D40,'007'!D40,'008'!D40) -> 4.445125 | E40: =STDEV('001'!E40,'002'!E40,'003'!E40,'004'!E40,'006'!E40,'007'!E40,'008'!E40) -> 3.7857581 | F40: =STDEV('001'!F40,'002'!F40,'003'!F40,'004'!F40,'006'!F40,'007'!F40,'008'!F40) -> 5.1324055 | G40: =STDEV('001'!G40,'002'!G40,'003'!G40,'004'!G40,'006'!G40,'007'!G40,'008'!G40) -> 6.1874387
B41: 300 | C41: =STDEV('001'!C41,'002'!C41,'003'!C41,'004'!C41,'006'!C41,'007'!C41,'008'!C41) -> 5.0416445 | D41: =STDEV('001'!D41,'002'!D41,'003'!D41,'004'!D41,'006'!D41,'007'!D41,'008'!D41) -> 4.4402114 | E41: =STDEV('001'!E41,'002'!E41,'003'!E41,'004'!E41,'006'!E41,'007'!E41,'008'!E41) -> 3.7892679 | F41: =STDEV('001'!F41,'002'!F41,'003'!F41,'004'!F41,'006'!F41,'007'!F41,'008'!F41) -> 5.1154202 | G41: =STDEV('001'!G41,'002'!G41,'003'!G41,'004'!G41,'006'!G41,'007'!G41,'008'!G41) -> 6.1829902
B42: 400 | C42: =STDEV('001'!C42,'002'!C42,'003'!C42,'004'!C42,'006'!C42,'007'!C42,'008'!C42) -> 5.0968339 | D42: =STDEV('001'!D42,'002'!D42,'003'!D42,'004'!D42,'006'!D42,'007'!D42,'008'!D42) -> 4.4428575 | E42: =STDEV('001'!E42,'002'!E42,'003'!E42,'004'!E42,'006'!E42,'007'!E42,'008'!E42) -> 3.7831304 | F42: =STDEV('001'!F42,'002'!F42,'003'!F42,'004'!F42,'006'!F42,'007'!F42,'008'!F42) -> 5.0144901 | G42: =STDEV('001'!G42,'002'!G42,'003'!G42,'004'!G42,'006'!G42,'007'!G42,'008'!G42) -> 6.1565489
B43: 500 | C43: =STDEV('001'!C43,'002'!C43,'003'!C43,'004'!C43,'006'!C43,'007'!C43,'008'!C43) -> 5.0227993 | D43: =STDEV('001'!D43,'002'!D43,'003'!D43,'004'!D43,'006'!D43,'007'!D43,'008'!D43) -> 4.450511 | E43: =STDEV('001'!E43,'002'!E43,'003'!E43,'004'!E43,'006'!E43,'007'!E43,'008'!E43) -> 3.7879814 | F43: =STDEV('001'!F43,'002'!F43,'003'!F43,'004'!F43,'006'!F43,'007'!F43,'008'!F43) -> 4.993464 | G43: =STDEV('001'!G43,'002'!G43,'003'!G43,'004'!G43,'006'!G43,'007'!G43,'008'!G43) -> 6.1401822
B44: 600 | C44: =STDEV('001'!C44,'002'!C44,'003'!C44,'004'!C44,'006'!C44,'007'!C44,'008'!C44) -> 5.0782891 | D44: =STDEV('001'!D44,'002'!D44,'003'!D44,'004'!D44,'006'!D44,'007'!D44,'008'!D44) -> 4.4400251 | E44: =STDEV('001'!E44,'002'!E44,'003'!E44,'004'!E44,'006'!E44,'007'!E44,'008'!E44) -> 3.804752 | F44: =STDEV('001'!F44,'002'!F44,'003'!F44,'004'!F44,'006'!F44,'007'!F44,'008'!F44) -> 4.9589997 | G44: =STDEV('001'!G44,'002'!G44,'003'!G44,'004'!G44,'006'!G44,'007'!G44,'008'!G44) -> 6.1098951
C46: Valgus (degrees)
B47: Quad Load (N) | E47: Flexion (deg)
C48: 0 | D48: 15 | E48: 30 | F48: 45 | G48: 60
B49: 20 | C49: =STDEV('001'!C49,'002'!C49,'003'!C49,'004'!C49,'006'!C49,'007'!C49,'008'!C49) -> 7.722196 | D49: =STDEV('001'!D49,'002'!D49,'003'!D49,'004'!D49,'006'!D49,'007'!D49,'008'!D49) -> 6.978898 | E49: =STDEV('001'!E49,'002'!E49,'003'!E49,'004'!E49,'006'!E49,'007'!E49,'008'!E49) -> 6.9164726 | F49: =STDEV('001'!F49,'002'!F49,'003'!F49,'004'!F49,'006'!F49,'007'!F49,'008'!F49) -> 6.5121943 | G49: =STDEV('001'!G49,'002'!G49,'003'!G49,'004'!G49,'006'!G49,'007'!G49,'008'!G49) -> 6.3741543
B50: 100 | C50: =STDEV('001'!C50,'002'!C50,'003'!C50,'004'!C50,'006'!C50,'007'!C50,'008'!C50) -> 7.8613231 | D50: =STDEV('001'!D50,'002'!D50,'003'!D50,'004'!D50,'006'!D50,'007'!D50,'008'!D50) -> 7.2137704 | E50: =STDEV('001'!E50,'002'!E50,'003'!E50,'004'!E50,'006'!E50,'007'!E50,'008'!E50) -> 6.9813197 | F50: =STDEV('001'!F50,'002'!F50,'003'!F50,'004'!F50,'006'!F50,'007'!F50,'008'!F50) -> 6.6927924 | G50: =STDEV('001'!G50,'002'!G50,'003'!G50,'004'!G50,'006'!G50,'007'!G50,'008'!G50) -> 6.6404069
B51: 200 | C51: =STDEV('001'!C51,'002'!C51,'003'!C51,'004'!C51,'006'!C51,'007'!C51,'008'!C51) -> 7.7836819 | D51: =STDEV('001'!D51,'002'!D51,'003'!D51,'004'!D51,'006'!D51,'007'!D51,'008'!D51) -> 7.1728448 | E51: =STDEV('001'!E51,'002'!E51,'003'!E51,'004'!E51,'006'!E51,'007'!E51,'008'!E51) -> 6.9349118 | F51: =STDEV('001'!F51,'002'!F51,'003'!F51,'004'!F51,'006'!F51,'007'!F51,'008'!F51) -> 6.6682967 | G51: =STDEV('001'!G51,'002'!G51,'003'!G51,'004'!G51,'006'!G51,'007'!G51,'008'!G51) -> 6.691974
B52: 300 | C52: =STDEV('001'!C52,'002'!C52,'003'!C52,'004'!C52,'006'!C52,'007'!C52,'008'!C52) -> 7.7438581 | D52: =STDEV('001'!D52,'002'!D52,'003'!D52,'004'!D52,'006'!D52,'007'!D52,'008'!D52) -> 7.1562224 | E52: =STDEV('001'!E52,'002'!E52,'003'!E52,'004'!E52,'006'!E52,'007'!E52,'008'!E52) -> 6.8719545 | F52: =STDEV('001'!F52,'002'!F52,'003'!F52,'004'!F52,'006'!F52,'007'!F52,'008'!F52) -> 6.5829707 | G52: =STDEV('001'!G52,'002'!G52,'003'!G52,'004'!G52,'006'!G52,'007'!G52,'008'!G52) -> 6.6962241
B53: 400 | C53: =STDEV('001'!C53,'002'!C53,'003'!C53,'004'!C53,'006'!C53,'007'!C53,'008'!C53) -> 7.6813016 | D53: =STDEV('001'!D53,'002'!D53,'003'!D53,'004'!D53,'006'!D53,'007'!D53,'008'!D53) -> 7.1139011 | E53: =STDEV('001'!E53,'002'!E53,'003'!E53,'004'!E53,'006'!E53,'007'!E53,'008'!E53) -> 6.8508055 | F53: =STDEV('001'!F53,'002'!F53,'003'!F53,'004'!F53,'006'!F53,'007'!F53,'008'!F53) -> 6.5240877 | G53: =STDEV('001'!G53,'002'!G53,'003'!G53,'004'!G53,'006'!G53,'007'!G53,'008'!G53) -> 6.6732553
B54: 500 | C54: =STDEV('001'!C54,'002'!C54,'003'!C54,'004'!C54,'006'!C54,'007'!C54,'008'!C54) -> 7.6666183 | D54: =STDEV('001'!D54,'002'!D54,'003'!D54,'004'!D54,'006'!D54,'007'!D54,'008'!D54) -> 7.0841842 | E54: =STDEV('001'!E54,'002'!E54,'003'!E54,'004'!E54,'006'!E54,'007'!E54,'008'!E54) -> 6.8192757 | F54: =STDEV('001'!F54,'002'!F54,'003'!F54,'004'!F54,'006'!F54,'007'!F54,'008'!F54) -> 6.4615998 | G54: =STDEV('001'!G54,'002'!G54,'003'!G54,'004'!G54,'006'!G54,'007'!G54,'008'!G54) -> 6.6596946
B55: 600 | C55: =STDEV('001'!C55,'002'!C55,'003'!C55,'004'!C55,'006'!C55,'007'!C55,'008'!C55) -> 7.6391663 | D55: =STDEV('001'!D55,'002'!D55,'003'!D55,'004'!D55,'006'!D55,'007'!D55,'008'!D55) -> 7.1080451 | E55: =STDEV('001'!E55,'002'!E55,'003'!E55,'004'!E55,'006'!E55,'007'!E55,'008'!E55) -> 6.7796859 | F55: =STDEV('001'!F55,'002'!F55,'003'!F55,'004'!F55,'006'!F55,'007'!F55,'008'!F55) -> 6.4302506 | G55: =STDEV('001'!G55,'002'!G55,'003'!G55,'004'!G55,'006'!G55,'007'!G55,'008'!G55) -> 6.6316524
C57: IR (degrees)
B58: Quad Load (N) | E58: Flexion (deg)
C59: 0 | D59: 15 | E59: 30 | F59: 45 | G59: 60
B60: 20 | C60: =STDEV('001'!C60,'002'!C60,'003'!C60,'004'!C60,'006'!C60,'007'!C60,'008'!C60) -> 2.5283454 | D60: =STDEV('001'!D60,'002'!D60,'003'!D60,'004'!D60,'006'!D60,'007'!D60,'008'!D60) -> 2.3114669 | E60: =STDEV('001'!E60,'002'!E60,'003'!E60,'004'!E60,'006'!E60,'007'!E60,'008'!E60) -> 3.5845662 | F60: =STDEV('001'!F60,'002'!F60,'003'!F60,'004'!F60,'006'!F60,'007'!F60,'008'!F60) -> 4.3923166 | G60: =STDEV('001'!G60,'002'!G60,'003'!G60,'004'!G60,'006'!G60,'007'!G60,'008'!G60) -> 5.5299813
B61: 100 | C61: =STDEV('001'!C61,'002'!C61,'003'!C61,'004'!C61,'006'!C61,'007'!C61,'008'!C61) -> 3.0632544 | D61: =STDEV('001'!D61,'002'!D61,'003'!D61,'004'!D61,'006'!D61,'007'!D61,'008'!D61) -> 2.5105721 | E61: =STDEV('001'!E61,'002'!E61,'003'!E61,'004'!E61,'006'!E61,'007'!E61,'008'!E61) -> 3.5396544 | F61: =STDEV('001'!F61,'002'!F61,'003'!F61,'004'!F61,'006'!F61,'007'!F61,'008'!F61) -> 3.9157306 | G61: =STDEV('001'!G61,'002'!G61,'003'!G61,'004'!G61,'006'!G61,'007'!G61,'008'!G61) -> 5.3212684
B62: 200 | C62: =STDEV('001'!C62,'002'!C62,'003'!C62,'004'!C62,'006'!C62,'007'!C62,'008'!C62) -> 3.3554491 | D62: =STDEV('001'!D62,'002'!D62,'003'!D62,'004'!D62,'006'!D62,'007'!D62,'008'!D62) -> 2.4538348 | E62: =STDEV('001'!E62,'002'!E62,'003'!E62,'004'!E62,'006'!E62,'007'!E62,'008'!E62) -> 3.499773 | F62: =STDEV('001'!F62,'002'!F62,'003'!F62,'004'!F62,'006'!F62,'007'!F62,'008'!F62) -> 3.7960839 | G62: =STDEV('001'!G62,'002'!G62,'003'!G62,'004'!G62,'006'!G62,'007'!G62,'008'!G62) -> 5.1906188
B63: 300 | C63: =STDEV('001'!C63,'002'!C63,'003'!C63,'004'!C63,'006'!C63,'007'!C63,'008'!C63) -> 3.5102742 | D63: =STDEV('001'!D63,'002'!D63,'003'!D63,'004'!D63,'006'!D63,'007'!D63,'008'!D63) -> 2.3619538 | E63: =STDEV('001'!E63,'002'!E63,'003'!E63,'004'!E63,'006'!E63,'007'!E63,'008'!E63) -> 3.4785479 | F63: =STDEV('001'!F63,'002'!F63,'003'!F63,'004'!F63,'006'!F63,'007'!F63,'008'!F63) -> 3.7527321 | G63: =STDEV('001'!G63,'002'!G63,'003'!G63,'004'!G63,'006'!G63,'007'!G63,'008'!G63) -> 5.1199617
B64: 400 | C64: =STDEV('001'!C64,'002'!C64,'003'!C64,'004'!C64,'006'!C64,'007'!C64,'008'!C64) -> 3.7614991 | D64: =STDEV('001'!D64,'002'!D64,'003'!D64,'004'!D64,'006'!D64,'007'!D64,'008'!D64) -> 2.3056395 | E64: =STDEV('001'!E64,'002'!E64,'003'!E64,'004'!E64,'006'!E64,'007'!E64,'008'!E64) -> 3.5045465 | F64: =STDEV('001'!F64,'002'!F64,'003'!F64,'004'!F64,'006'!F64,'007'!F64,'008'!F64) -> 3.7609223 | G64: =STDEV('001'!G64,'002'!G64,'003'!G64,'004'!G64,'006'!G64,'007'!G64,'008'!G64) -> 5.0705219
B65: 500 | C65: =STDEV('001'!C65,'002'!C65,'003'!C65,'004'!C65,'006'!C65,'007'!C65,'008'!C65) -> 3.6987533 | D65: =STDEV('001'!D65,'002'!D65,'003'!D65,'004'!D65,'006'!D65,'007'!D65,'008'!D65) -> 2.2259314 | E65: =STDEV('001'!E65,'002'!E65,'003'!E65,'004'!E65,'006'!E65,'007'!E65,'008'!E65) -> 3.5297851 | F65: =STDEV('001'!F65,'002'!F65,'003'!F65,'004'!F65,'006'!F65,'007'!F65,'008'!F65) -> 3.7818897 | G65: =STDEV('001'!G65,'002'!G65,'003'!G65,'004'!G65,'006'!G65,'007'!G65,'008'!G65) -> 5.0446607
B66: 600 | C66: =STDEV('001'!C66,'002'!C66,'003'!C66,'004'!C66,'006'!C66,'007'!C66,'008'!C66) -> 3.588033 | D66: =STDEV('001'!D66,'002'!D66,'003'!D66,'004'!D66,'006'!D66,'007'!D66,'008'!D66) -> 2.1716169 | E66: =STDEV('001'!E66,'002'!E66,'003'!E66,'004'!E66,'006'!E66,'007'!E66,'008'!E66) -> 3.5444371 | F66: =STDEV('001'!F66,'002'!F66,'003'!F66,'004'!F66,'006'!F66,'007'!F66,'008'!F66) -> 3.8192068 | G66: =STDEV('001'!G66,'002'!G66,'003'!G66,'004'!G66,'006'!G66,'007'!G66,'008'!G66) -> 5.0416772

Sheet 001
C2: Medial Translation (mm)
E3: Flexion (deg)
B4: Quad Load (N) | C4: 0 | D4: 15 | E4: 30 | F4: 45 | G4: 60
B5: 20 | C5: 3.0219527 | D5: 1.741885 | E5: -2.4917325 | F5: -6.8127356 | G5: -10.278012
B6: 100 | C6: 3.5164918 | D6: 1.5807547 | E6: -2.4518645 | F6: -6.8131065 | G6: -10.31494
B7: 200 | C7: 3.5195257 | D7: 1.3143064 | E7: -2.4609865 | F7: -6.8483189 | G7: -10.455674
B8: 300 | C8: 3.2412255 | D8: 1.1364392 | E8: -2.5189539 | F8: -6.9167117 | G8: -10.569597
B9: 400 | C9: 3.0242833 | D9: 0.84013131 | E9: -2.589458 | F9: -6.816958 | G9: -10.58141
B10: 500 | C10: 3.0115454 | D10: 0.80441328 | E10: -2.5812774 | F10: -6.8483518 | G10: -10.583034
B11: 600 | C11: 2.8054312 | D11: 0.75782252 | E11: -2.6850973 | F11: -6.80523 | G11: -10.617248
C13: Posterior Translation (mm)
B14: Quad Load (N) | E14: Flexion (deg)
C15: 0 | D15: 15 | E15: 30 | F15: 45 | G15: 60
B16: 20 | C16: 8.8236889 | D16: 7.8810891 | E16: 6.8950765 | F16: 5.8329076 | G16: 5.3348045
B17: 100 | C17: 10.421007 | D17: 8.3864299 | E17: 6.9708588 | F17: 6.0363573 | G17: 5.7208877
B18: 200 | C18: 11.154064 | D18: 8.5339387 | E18: 7.037844 | F18: 6.0941319 | G18: 5.7881585
B19: 300 | C19: 11.598788 | D19: 8.6118984 | E19: 7.1290688 | F19: 6.2395244 | G19: 5.9027484
B20: 400 | C20: 11.887523 | D20: 8.679773 | E20: 7.2484825 | F20: 6.296475 | G20: 5.9574945
B21: 500 | C21: 12.232922 | D21: 8.7896626 | E21: 7.3253912 | F21: 6.409081 | G21: 6.0274676
B22: 600 | C22: 12.365465 | D22: 8.9103846 | E22: 7.418545 | F22: 6.507487 | G22: 6.096964
C24: Superior Translation (mm)
B25: Quad Load (N) | E25: Flexion (deg)
C26: 0 | D26: 15 | E26: 30 | F26: 45 | G26: 60
B27: 20 | C27: 16.712368 | D27: 10.595192 | E27: 4.7437976 | F27: -2.3167048 | G27: -9.1544647
B28: 100 | C28: 18.568838 | D28: 11.580633 | E28: 4.7534998 | F28: -2.5121398 | G28: -8.4985179
B29: 200 | C29: 19.41555 | D29: 12.098593 | E29: 5.0821272 | F29: -2.126248 | G29: -8.1788376
B30: 300 | C30: 20.16151 | D30: 12.461589 | E30: 5.3185528 | F30: -2.1651289 | G30: -8.2668305
B31: 400 | C31: 20.43094 | D31: 12.783142 | E31: 5.3551601 | F31: -1.8299811 | G31: -8.2304192
B32: 500 | C32: 21.01803 | D32: 12.769577 | E32: 5.5643961 | F32: -1.7609519 | G32: -8.1533908
B33: 600 | C33: 21.096796 | D33: 12.86418 | E33: 5.5884045 | F33: -1.7032917 | G33: -7.9804001
C35: Flexion (degrees)
E36: Flexion (deg)
B37: Quad Load (N) | C37: 0 | D37: 15 | E37: 30 | F37: 45 | G37: 60
B38: 20 | C38: -14.580786 | D38: -3.2629571 | E38: 6.5191886 | F38: 13.612182 | G38: 20.89316
B39: 100 | C39: -12.856065 | D39: -2.8287758 | E39: 6.0390178 | F39: 13.110619 | G39: 21.115885
B40: 200 | C40: -12.075452 | D40: -2.8195011 | E40: 5.9341679 | F40: 13.030365 | G40: 21.061552
B41: 300 | C41: -11.541653 | D41: -2.907121 | E41: 5.788855 | F41: 12.729138 | G41: 20.799334
B42: 400 | C42: -11.405211 | D42: -3.1035856 | E42: 5.6264791 | F42: 12.774285 | G42: 20.687911
B43: 500 | C43: -11.057087 | D43: -3.2808854 | E43: 5.4837725 | F43: 12.595211 | G43: 20.601242
B44: 600 | C44: -11.128464 | D44: -3.4554771 | E44: 5.2502467 | F44: 12.534995 | G44: 20.529119
C46: Valgus (degrees)
B47: Quad Load (N) | E47: Flexion (deg)
C48: 0 | D48: 15 | E48: 30 | F48: 45 | G48: 60
B49: 20 | C49: -18.927463 | D49: -16.263027 | E49: -15.340583 | F49: -12.83183 | G49: -9.7785817
B50: 100 | C50: -19.575032 | D50: -16.822138 | E50: -15.393836 | F50: -13.003226 | G50: -10.54638
B51: 200 | C51: -19.560644 | D51: -16.931743 | E51: -15.406387 | F51: -13.045905 | G51: -10.680181
B52: 300 | C52: -19.551838 | D52: -17.010986 | E52: -15.372169 | F52: -12.951087 | G52: -10.768261
B53: 400 | C53: -19.536016 | D53: -17.015539 | E53: -15.422392 | F53: -12.915292 | G53: -10.791771
B54: 500 | C54: -19.603077 | D54: -17.087164 | E54: -15.459521 | F54: -12.850897 | G54: -10.855312
B55: 600 | C55: -19.634463 | D55: -17.253368 | E55: -15.44726 | F55: -12.851603 | G55: -10.899483
C57: IR (degrees)
B58: Quad Load (N) | E58: Flexion (deg)
C59: 0 | D59: 15 | E59: 30 | F59: 45 | G59: 60
B60: 20 | C60: 4.8842227 | D60: 1.1636655 | E60: -0.9352564 | F60: -2.638954 | G60: -5.4538646
B61: 100 | C61: 5.3045435 | D61: 1.6420705 | E61: -0.38741975 | F61: -1.8835789 | G61: -4.1617625
B62: 200 | C62: 5.2744791 | D62: 1.9893546 | E62: 0.019299924 | F62: -1.2843247 | G62: -3.6516171
B63: 300 | C63: 5.065128 | D63: 2.1539153 | E63: 0.31546412 | F63: -0.75588814 | G63: -3.306472
B64: 400 | C64: 4.8228162 | D64: 2.2253439 | E64: 0.54660088 | F64: -0.32794589 | G64: -3.0322628
B65: 500 | C65: 4.57551 | D65: 2.3471164 | E65: 0.73201608 | F65: 0.0064933893 | G65: -2.880654
B66: 600 | C66: 4.3537136 | D66: 2.3550807 | E66: 0.89527901 | F66: 0.26772337 | G66: -2.781839

Sheet 002
C2: Medial Translation (mm)
E3: Flexion (deg)
B4: Quad Load (N) | C4: 0 | D4: 15 | E4: 30 | F4: 45 | G4: 60
B5: 20 | C5: -0.40053428 | D5: 2.2948333 | E5: 1.0168584 | F5: 0.72468969 | G5: 0.20051455
B6: 100 | C6: -0.42187775 | D6: 2.7339175 | E6: 0.84617423 | F6: 0.43472606 | G6: 0.23360801
B7: 200 | C7: -0.37417693 | D7: 2.8617892 | E7: 0.83149095 | F7: 0.30164004 | G7: 0.21998118
B8: 300 | C8: -0.4134732 | D8: 2.8655842 | E8: 0.8988588 | F8: 0.27241843 | G8: 0.23666312
B9: 400 | C9: -0.42706993 | D9: 2.9408318 | E9: 0.9790544 | F9: 0.28504613 | G9: 0.26055403
B10: 500 | C10: -0.46239647 | D10: 3.003107 | E10: 1.0951068 | F10: 0.31325226 | G10: 0.23794122
B11: 600 | C11: -0.43826818 | D11: 3.0073659 | E11: 1.1802602 | F11: 0.33794577 | G11: 0.26382992
C13: Posterior Translation (mm)
B14: Quad Load (N) | E14: Flexion (deg)
C15: 0 | D15: 15 | E15: 30 | F15: 45 | G15: 60
B16: 20 | C16: 0.28343718 | D16: 1.0517288 | E16: 2.295208 | F16: 4.7225412 | G16: 7.0283964
B17: 100 | C17: 0.57528693 | D17: 1.4105495 | E17: 2.5082104 | F17: 4.8525541 | G17: 7.0419582
B18: 200 | C18: 0.94272018 | D18: 1.5833531 | E18: 2.5930574 | F18: 4.9421755 | G18: 7.0985029
B19: 300 | C19: 1.2274982 | D19: 1.7489011 | E19: 2.6315836 | F19: 5.0595952 | G19: 7.216987
B20: 400 | C20: 1.4166826 | D20: 1.9326542 | E20: 2.637479 | F20: 5.0727586 | G20: 7.2593767
B21: 500 | C21: 1.5842082 | D21: 1.9474261 | E21: 2.686602 | F21: 5.105466 | G21: 7.2829062
B22: 600 | C22: 1.7166179 | D22: 2.0894985 | E22: 2.7051867 | F22: 5.1100396 | G22: 7.291149
C24: Superior Translation (mm)
B25: Quad Load (N) | E25: Flexion (deg)
C26: 0 | D26: 15 | E26: 30 | F26: 45 | G26: 60
B27: 20 | C27: 1.460449 | D27: -2.0926089 | E27: -8.1616689 | F27: -10.540681 | G27: -10.772163
B28: 100 | C28: 2.6686995 | D28: -1.6809182 | E28: -9.131669 | F28: -10.166666 | G28: -10.693603
B29: 200 | C29: 3.4969925 | D29: -1.4125266 | E29: -9.475404 | F29: -10.147289 | G29: -10.66077
B30: 300 | C30: 4.0560891 | D30: -1.2343071 | E30: -9.490312 | F30: -10.349384 | G30: -10.91477
B31: 400 | C31: 4.3430644 | D31: -1.1825819 | E31: -9.3718223 | F31: -10.395823 | G31: -10.860331
B32: 500 | C32: 4.8137541 | D32: -0.89327348 | E32: -9.3233824 | F32: -10.503935 | G32: -10.846052
B33: 600 | C33: 5.2034846 | D33: -0.79465631 | E33: -9.2077094 | F33: -10.479466 | G33: -10.807128
C35: Flexion (degrees)
E36: Flexion (deg)
B37: Quad Load (N) | C37: 0 | D37: 15 | E37: 30 | F37: 45 | G37: 60
B38: 20 | C38: 0.5344975 | D38: 10.18524 | E38: 16.209668 | F38: 27.021738 | G38: 38.860652
B39: 100 | C39: 1.0615909 | D39: 9.9851519 | E39: 14.656982 | F39: 26.820191 | G39: 38.450452
B40: 200 | C40: 1.5339771 | D40: 9.7715181 | E40: 13.850923 | F40: 26.360985 | G40: 38.036052
B41: 300 | C41: 1.7756918 | D41: 9.5286335 | E41: 13.398079 | F41: 25.850123 | G41: 37.653764
B42: 400 | C42: 1.8219646 | D42: 9.2602145 | E42: 13.112287 | F42: 25.441676 | G42: 37.354515
B43: 500 | C43: 1.9077641 | D43: 9.097107 | E43: 12.83915 | F43: 25.029247 | G43: 37.081945
B44: 600 | C44: 1.9902101 | D44: 8.8707106 | E44: 12.578073 | F44: 24.732339 | G44: 36.88325
C46: Valgus (degrees)
B47: Quad Load (N) | E47: Flexion (deg)
C48: 0 | D48: 15 | E48: 30 | F48: 45 | G48: 60
B49: 20 | C49: -0.99527452 | D49: -1.124621 | E49: 0.19192596 | F49: 0.97370414 | G49: 1.1932943
B50: 100 | C50: -1.2567089 | D50: -1.2073284 | E50: -0.0729982 | F50: 0.83318829 | G50: 1.4318525
B51: 200 | C51: -1.4498287 | D51: -1.1222484 | E51: -0.040922785 | F51: 0.94111568 | G51: 1.6229877
B52: 300 | C52: -1.4930924 | D52: -0.99683688 | E52: 0.025195772 | F52: 1.0543956 | G52: 1.8535026
B53: 400 | C53: -1.5164871 | D53: -0.89023633 | E53: 0.13465689 | F53: 1.1668663 | G53: 2.0409024
B54: 500 | C54: -1.585001 | D54: -0.91773366 | E54: 0.23377031 | F54: 1.2684951 | G54: 2.1349728
B55: 600 | C55: -1.6116756 | D55: -0.91289628 | E55: 0.30463641 | F55: 1.3877222 | G55: 2.2193475
C57: IR (degrees)
B58: Quad Load (N) | E58: Flexion (deg)
C59: 0 | D59: 15 | E59: 30 | F59: 45 | G59: 60
B60: 20 | C60: 1.9804869 | D60: 6.7491199 | E60: 7.1917766 | F60: 6.3766031 | G60: 6.3345393
B61: 100 | C61: 1.6870344 | D61: 7.0173592 | E61: 7.6093385 | F61: 6.5021324 | G61: 6.3116121
B62: 200 | C62: 1.3882053 | D62: 6.9062618 | E62: 7.8407912 | F62: 6.6807519 | G62: 6.3688555
B63: 300 | C63: 1.0815196 | D63: 6.7860391 | E63: 7.9799573 | F63: 6.8241853 | G63: 6.4476611
B64: 400 | C64: 0.81165088 | D64: 6.7242364 | E64: 8.1003633 | F64: 6.9895971 | G64: 6.5213276
B65: 500 | C65: 0.5595334 | D65: 6.5958012 | E65: 8.1915032 | F65: 7.138849 | G65: 6.5596026
B66: 600 | C66: 0.36161642 | D66: 6.4794404 | E66: 8.2552289 | F66: 7.287603 | G66: 6.6155812

Sheet 003
C2: Medial Translation (mm)
E3: Flexion (deg)
B4: Quad Load (N) | C4: 0 | D4: 15 | E4: 30 | F4: 45 | G4: 60
B5: 20 | C5: -3.6087697 | D5: -2.331588 | E5: -1.7945197 | F5: -2.6261828 | G5: -3.7294511
B6: 100 | C6: -6.1847813 | D6: -4.0391758 | E6: -2.4853988 | F6: -2.7411216 | G6: -3.6792001
B7: 200 | C7: -6.7212616 | D7: -4.2879126 | E7: -2.7079675 | F7: -2.7827186 | G7: -3.6425775
B8: 300 | C8: -7.0074614 | D8: -4.4595059 | E8: -2.7807451 | F8: -2.7912944 | G8: -3.5843029
B9: 400 | C9: -7.2401772 | D9: -4.4845164 | E9: -2.8054494 | F9: -2.7853774 | G9: -3.5139966
B10: 500 | C10: -7.3743889 | D10: -4.4661197 | E10: -2.8243621 | F10: -2.7622903 | G10: -3.467354
B11: 600 | C11: -7.4855838 | D11: -4.4783613 | E11: -2.8331375 | F11: -2.7252065 | G11: -3.4454
C13: Posterior Translation (mm)
B14: Quad Load (N) | E14: Flexion (deg)
C15: 0 | D15: 15 | E15: 30 | F15: 45 | G15: 60
B16: 20 | C16: 0.57136664 | D16: 0.37178871 | E16: 2.1684422 | F16: 4.2749765 | G16: 7.0442894
B17: 100 | C17: 2.782289 | D17: 1.3056788 | E17: 1.9874157 | F17: 4.3047979 | G17: 7.0381932
B18: 200 | C18: 3.3751245 | D18: 1.7251046 | E18: 1.9113221 | F18: 4.2066823 | G18: 7.0716874
B19: 300 | C19: 3.5654451 | D19: 1.9475649 | E19: 1.9465838 | F19: 4.1579676 | G19: 7.0957247
B20: 400 | C20: 3.709597 | D20: 2.1463316 | E20: 2.0152092 | F20: 4.1449385 | G20: 7.1106853
B21: 500 | C21: 3.6900884 | D21: 2.3270032 | E21: 2.099695 | F21: 4.2071294 | G21: 7.1059502
B22: 600 | C22: 3.7378863 | D22: 2.4413594 | E22: 2.2316109 | F22: 4.2279306 | G22: 7.1786919
C24: Superior Translation (mm)
B25: Quad Load (N) | E25: Flexion (deg)
C26: 0 | D26: 15 | E26: 30 | F26: 45 | G26: 60
B27: 20 | C27: 4.4071515 | D27: -0.72213662 | E27: -8.4458049 | F27: -14.726419 | G27: -18.367626
B28: 100 | C28: 8.6348236 | D28: 2.5602354 | E28: -6.5648508 | F28: -14.533726 | G28: -18.182642
B29: 200 | C29: 9.3995384 | D29: 3.292383 | E29: -5.549843 | F29: -14.084338 | G29: -18.085844
B30: 300 | C30: 9.7298962 | D30: 3.6767809 | E30: -5.0508673 | F30: -13.730716 | G30: -18.055543
B31: 400 | C31: 9.8644846 | D31: 3.9330312 | E31: -4.7881246 | F31: -13.423796 | G31: -17.99781
B32: 500 | C32: 9.8909821 | D32: 4.0670369 | E32: -4.4406379 | F32: -13.424805 | G32: -17.824935
B33: 600 | C33: 9.8929922 | D33: 4.2502528 | E33: -4.3253382 | F33: -13.201661 | G33: -17.867268
C35: Flexion (degrees)
E36: Flexion (deg)
B37: Quad Load (N) | C37: 0 | D37: 15 | E37: 30 | F37: 45 | G37: 60
B38: 20 | C38: -2.3237388 | D38: 8.1030828 | E38: 16.766387 | F38: 24.845137 | G38: 34.421804
B39: 100 | C39: 0.74362796 | D39: 10.034316 | E39: 16.769085 | F39: 23.740691 | G39: 33.89364
B40: 200 | C40: 1.231333 | D40: 10.310366 | E40: 16.874094 | F40: 23.471966 | G40: 33.557731
B41: 300 | C41: 1.2576779 | D41: 10.270254 | E41: 16.834355 | F41: 23.330257 | G41: 33.330725
B42: 400 | C42: 1.1123068 | D42: 10.16347 | E42: 16.660354 | F42: 23.208176 | G42: 33.148387
B43: 500 | C43: 0.86596023 | D43: 9.9703794 | E43: 16.605341 | F43: 22.981255 | G43: 32.995564
B44: 600 | C44: 0.62015372 | D44: 9.7763471 | E44: 16.435814 | F44: 22.883889 | G44: 32.833723
C46: Valgus (degrees)
B47: Quad Load (N) | E47: Flexion (deg)
C48: 0 | D48: 15 | E48: 30 | F48: 45 | G48: 60
B49: 20 | C49: 3.9075276 | D49: 5.6801472 | E49: 5.2003351 | F49: 4.9565536 | G49: 6.1352295
B50: 100 | C50: 5.1984053 | D50: 5.9724329 | E50: 5.8013546 | F50: 5.9196614 | G50: 6.1968682
B51: 200 | C51: 4.9518437 | D51: 5.5387629 | E51: 5.5519776 | F51: 5.7388342 | G51: 5.9702822
B52: 300 | C52: 4.7577559 | D52: 5.3562948 | E52: 5.2699568 | F52: 5.4205617 | G52: 5.680916
B53: 400 | C53: 4.5695272 | D53: 5.0864293 | E53: 5.0360493 | F53: 5.1447884 | G53: 5.4452001
B54: 500 | C54: 4.3450419 | D54: 4.8125423 | E54: 4.784491 | F54: 4.8822869 | G54: 5.1891937
B55: 600 | C55: 4.1357891 | D55: 4.6150636 | E55: 4.62409 | F55: 4.7010493 | G55: 4.9733864
C57: IR (degrees)
B58: Quad Load (N) | E58: Flexion (deg)
C59: 0 | D59: 15 | E59: 30 | F59: 45 | G59: 60
B60: 20 | C60: 3.847737 | D60: 2.8572247 | E60: -0.15555117 | F60: -4.3276435 | G60: -4.9771433
B61: 100 | C61: 4.8513466 | D61: 3.9735558 | E61: 1.8146214 | F61: -1.6203167 | G61: -3.8593465
B62: 200 | C62: 5.3124558 | D62: 4.4437767 | E62: 2.6436584 | F62: -0.49441126 | G62: -2.970023
B63: 300 | C63: 5.5445501 | D63: 4.7890024 | E63: 3.0559035 | F63: 0.071279977 | G63: -2.4644688
B64: 400 | C64: 5.6958287 | D64: 4.9177991 | E64: 3.3714825 | F64: 0.43253296 | G64: -2.1370227
B65: 500 | C65: 5.7936337 | D65: 4.9520029 | E65: 3.5346285 | F65: 0.68530429 | G65: -1.8989954
B66: 600 | C66: 5.792431 | D66: 4.9664748 | E66: 3.6908648 | F66: 0.87174709 | G66: -1.765187

Sheet 004
C2: Medial Translation (mm)
E3: Flexion (deg)
B4: Quad Load (N) | C4: 0 | D4: 15 | E4: 30 | F4: 45 | G4: 60
B5: 20 | C5: -1.374867 | D5: -2.506143 | E5: -5.2287157 | F5: -7.2191275 | G5: -9.4069392
B6: 100 | C6: 0.66778617 | D6: -1.9317684 | E6: -5.0925177 | F6: -7.2774531 | G6: -9.5373972
B7: 200 | C7: 1.3965079 | D7: -1.5515199 | E7: -4.9056611 | F7: -7.1953207 | G7: -9.4497484
B8: 300 | C8: 1.7131326 | D8: -1.4125824 | E8: -4.825834 | F8: -7.1596968 | G8: -9.3830273
B9: 400 | C9: 2.0718399 | D9: -1.3005116 | E9: -4.7203749 | F9: -7.1020513 | G9: -9.3249961
B10: 500 | C10: 1.8718001 | D10: -1.1561888 | E10: -4.6507393 | F10: -7.052734 | G10: -9.3029238
B11: 600 | C11: 1.7493003 | D11: -1.0463316 | E11: -4.5965403 | F11: -7.0327006 | G11: -9.2399301
C13: Posterior Translation (mm)
B14: Quad Load (N) | E14: Flexion (deg)
C15: 0 | D15: 15 | E15: 30 | F15: 45 | G15: 60
B16: 20 | C16: 0.75561018 | D16: 1.7849519 | E16: 3.4925861 | F16: 5.1786757 | G16: 6.2992738
B17: 100 | C17: 2.2153602 | D17: 2.7490584 | E17: 3.8367841 | F17: 5.2480946 | G17: 6.4605586
B18: 200 | C18: 3.5276178 | D18: 3.3924323 | E18: 4.0284326 | F18: 5.3762452 | G18: 6.5141535
B19: 300 | C19: 4.5360081 | D19: 3.5245801 | E19: 4.1232437 | F19: 5.4951347 | G19: 6.6507989
B20: 400 | C20: 5.8031784 | D20: 3.7494245 | E20: 4.1884999 | F20: 5.5808369 | G20: 6.7018238
B21: 500 | C21: 5.4364255 | D21: 3.9593599 | E21: 4.2920491 | F21: 5.6230483 | G21: 6.7443393
B22: 600 | C22: 4.9675803 | D22: 4.1650338 | E22: 4.4335614 | F22: 5.6485134 | G22: 6.8159577
C24: Superior Translation (mm)
B25: Quad Load (N) | E25: Flexion (deg)
C26: 0 | D26: 15 | E26: 30 | F26: 45 | G26: 60
B27: 20 | C27: -0.87468806 | D27: -1.1194285 | E27: -5.8405663 | F27: -9.1819056 | G27: -11.684506
B28: 100 | C28: 5.5915262 | D28: 0.91552367 | E28: -4.495877 | F28: -8.8335242 | G28: -11.980105
B29: 200 | C29: 7.2430103 | D29: 1.5337096 | E29: -4.1555368 | F29: -8.9849242 | G29: -12.227905
B30: 300 | C30: 7.8387829 | D30: 2.1879592 | E30: -3.9924578 | F30: -9.1607168 | G30: -12.284759
B31: 400 | C31: 8.4952931 | D31: 2.2010224 | E31: -3.9321677 | F31: -9.2994776 | G31: -12.243563
B32: 500 | C32: 8.8086799 | D32: 2.5352949 | E32: -3.9268736 | F32: -9.2204818 | G32: -12.200209
B33: 600 | C33: 8.9694536 | D33: 2.6855159 | E33: -3.9812201 | F33: -9.1759095 | G33: -12.217632
C35: Flexion (degrees)
E36: Flexion (deg)
B37: Quad Load (N) | C37: 0 | D37: 15 | E37: 30 | F37: 45 | G37: 60
B38: 20 | C38: 1.1896852 | D38: 4.5633621 | E38: 13.909129 | F38: 24.248375 | G38: 34.871959
B39: 100 | C39: -2.5943933 | D39: 6.7711655 | E39: 15.094751 | F39: 24.168381 | G39: 33.95021
B40: 200 | C40: -0.6594883 | D40: 7.4051641 | E40: 15.238282 | F40: 23.70042 | G40: 33.411611
B41: 300 | C41: 0.21417751 | D41: 7.7500248 | E41: 15.110782 | F41: 23.250444 | G41: 33.08654
B42: 400 | C42: 1.0404837 | D42: 7.6285945 | E42: 14.864643 | F42: 22.891816 | G42: 32.910574
B43: 500 | C43: 1.2147238 | D43: 7.7031753 | E43: 14.624485 | F43: 22.716434 | G43: 32.71451
B44: 600 | C44: 1.158804 | D44: 7.6557385 | E44: 14.35522 | F44: 22.512091 | G44: 32.534295
C46: Valgus (degrees)
B47: Quad Load (N) | E47: Flexion (deg)
C48: 0 | D48: 15 | E48: 30 | F48: 45 | G48: 60
B49: 20 | C49: -0.63830424 | D49: 0.32790322 | E49: 1.2725768 | F49: 2.1349484 | G49: 1.7649133
B50: 100 | C50: -0.4015089 | D50: 0.38071607 | E50: 1.0671471 | F50: 1.9653349 | G50: 1.8077933
B51: 200 | C51: -0.47656222 | D51: 0.40444177 | E51: 0.9211345 | F51: 1.9187931 | G51: 1.8262724
B52: 300 | C52: -0.4059848 | D52: 0.27308776 | E52: 0.83952718 | F52: 1.8564205 | G52: 1.7193877
B53: 400 | C53: -0.48613836 | D53: 0.3999945 | E53: 0.87022483 | F53: 1.7414194 | G53: 1.6208023
B54: 500 | C54: -0.43215054 | D54: 0.3044868 | E54: 0.78784846 | F54: 1.634199 | G54: 1.5152451
B55: 600 | C55: -0.48913474 | D55: 0.29821659 | E55: 0.76770516 | F55: 1.5461865 | G55: 1.4744242
C57: IR (degrees)
B58: Quad Load (N) | E58: Flexion (deg)
C59: 0 | D59: 15 | E59: 30 | F59: 45 | G59: 60
B60: 20 | C60: 1.015897 | D60: 4.1597311 | E60: 2.73604 | F60: 0.1429021 | G60: 0.3960707
B61: 100 | C61: 3.8635601 | D61: 5.6246089 | E61: 3.9535661 | F61: 0.94072541 | G61: 0.07136448
B62: 200 | C62: 4.8285953 | D62: 5.6828809 | E62: 3.7007861 | F62: 0.72792539 | G62: -0.23788947
B63: 300 | C63: 5.3990479 | D63: 5.393998 | E63: 3.1741041 | F63: 0.376281 | G63: -0.54346328
B64: 400 | C64: 6.2405251 | D64: 5.0530487 | E64: 2.6091724 | F64: -0.01077473 | G64: -0.76990766
B65: 500 | C65: 5.8170973 | D65: 4.7413744 | E65: 2.1496404 | F65: -0.29364151 | G65: -1.0225256
B66: 600 | C66: 5.1494278 | D66: 4.4384976 | E66: 1.7988172 | F66: -0.55055006 | G66: -1.2182469

Sheet 006
C2: Medial Translation (mm)
E3: Flexion (deg)
B4: Quad Load (N) | C4: 0 | D4: 15 | E4: 30 | F4: 45 | G4: 60
B5: 20 | C5: -1.2057068 | D5: 0.48259675 | E5: 0.43208134 | F5: 0.22000368 | G5: -1.3218309
B6: 100 | C6: 0.080401502 | D6: 0.65505962 | E6: 0.53950475 | F6: 0.11415579 | G6: -1.2836374
B7: 200 | C7: 0.57137254 | D7: 0.64114212 | E7: 0.52696243 | F7: 0.060275324 | G7: -1.255868
B8: 300 | C8: 0.66475925 | D8: 0.66458157 | E8: 0.52298151 | F8: 0.010677223 | G8: -1.2311072
B9: 400 | C9: 0.71598242 | D9: 0.68159099 | E9: 0.50592389 | F9: -0.084782429 | G9: -1.2238448
B10: 500 | C10: 0.76087806 | D10: 0.7427164 | E10: 0.43143336 | F10: -0.036563975 | G10: -1.2223345
B11: 600 | C11: 0.81682403 | D11: 0.77815128 | E11: 0.37720888 | F11: -0.074568988 | G11: -1.2161768
C13: Posterior Translation (mm)
B14: Quad Load (N) | E14: Flexion (deg)
C15: 0 | D15: 15 | E15: 30 | F15: 45 | G15: 60
B16: 20 | C16: -0.17267844 | D16: 1.5263891 | E16: 3.5312531 | F16: 5.4663507 | G16: 7.329879
B17: 100 | C17: 0.96849029 | D17: 1.6699772 | E17: 3.5785718 | F17: 5.5131512 | G17: 7.3859866
B18: 200 | C18: 1.9534713 | D18: 1.787682 | E18: 3.611418 | F18: 5.6086128 | G18: 7.3959425
B19: 300 | C19: 2.3138004 | D19: 1.9217875 | E19: 3.6258227 | F19: 5.6575042 | G19: 7.5192956
B20: 400 | C20: 2.6800401 | D20: 1.9769538 | E20: 3.6834073 | F20: 5.6864017 | G20: 7.5881696
B21: 500 | C21: 2.9783355 | D21: 2.0516333 | E21: 3.7476533 | F21: 5.795211 | G21: 7.653257
B22: 600 | C22: 3.2982507 | D22: 2.1347404 | E22: 3.734035 | F22: 5.8059587 | G22: 7.6929924
C24: Superior Translation (mm)
B25: Quad Load (N) | E25: Flexion (deg)
C26: 0 | D26: 15 | E26: 30 | F26: 45 | G26: 60
B27: 20 | C27: 0.76185651 | D27: -3.0109185 | E27: -7.3915021 | F27: -10.138023 | G27: -12.2542
B28: 100 | C28: 3.29542 | D28: -2.65576 | E28: -7.5629791 | F28: -10.039911 | G28: -12.256033
B29: 200 | C29: 5.1050001 | D29: -2.4889997 | E29: -7.474276 | F29: -9.8701972 | G29: -11.98284
B30: 300 | C30: 5.8233566 | D30: -2.27806 | E30: -7.2515127 | F30: -9.6799383 | G30: -11.957569
B31: 400 | C31: 6.4674365 | D31: -2.0076354 | E31: -7.1633984 | F31: -9.5514302 | G31: -11.814256
B32: 500 | C32: 7.0565096 | D32: -1.8415096 | E32: -7.0818463 | F32: -9.4365951 | G32: -11.725821
B33: 600 | C33: 7.4936747 | D33: -1.7572863 | E33: -6.9052674 | F33: -9.2865023 | G33: -11.561633
C35: Flexion (degrees)
E36: Flexion (deg)
B37: Quad Load (N) | C37: 0 | D37: 15 | E37: 30 | F37: 45 | G37: 60
B38: 20 | C38: 1.2049549 | D38: 9.5888534 | E38: 18.225048 | F38: 28.661529 | G38: 40.021063
B39: 100 | C39: 2.1739287 | D39: 9.1302153 | E39: 17.231859 | F39: 28.238684 | G39: 39.454148
B40: 200 | C40: 3.4359356 | D40: 8.7768088 | E40: 16.770262 | F40: 27.971528 | G40: 39.202584
B41: 300 | C41: 3.9060748 | D41: 8.5597254 | E41: 16.511689 | F41: 27.809212 | G41: 38.986088
B42: 400 | C42: 4.3117518 | D42: 8.3592869 | E42: 16.249748 | F42: 27.615637 | G42: 38.806091
B43: 500 | C43: 4.6141482 | D43: 8.1552443 | E43: 15.978152 | F43: 27.419056 | G43: 38.664847
B44: 600 | C44: 4.8043394 | D44: 7.8974887 | E44: 15.711216 | F44: 27.226771 | G44: 38.562252
C46: Valgus (degrees)
B47: Quad Load (N) | E47: Flexion (deg)
C48: 0 | D48: 15 | E48: 30 | F48: 45 | G48: 60
B49: 20 | C49: -0.10239913 | D49: -2.2866892 | E49: -1.4946095 | F49: -0.49523385 | G49: 0.74177994
B50: 100 | C50: -2.7747616 | D50: -2.6280913 | E50: -1.562469 | F50: -0.39540193 | G50: 0.73893343
B51: 200 | C51: -3.6040551 | D51: -2.7234094 | E51: -1.4844935 | F51: -0.1456754 | G51: 0.82666534
B52: 300 | C52: -3.7423782 | D52: -2.7377407 | E52: -1.3990286 | F52: 0.045995503 | G52: 0.90493649
B53: 400 | C53: -3.8408692 | D53: -2.7667083 | E53: -1.3515922 | F53: 0.12492959 | G53: 1.0032939
B54: 500 | C54: -3.9335746 | D54: -2.7539058 | E54: -1.3323658 | F54: 0.21514883 | G54: 1.0571614
B55: 600 | C55: -4.0095876 | D55: -2.7950067 | E55: -1.358601 | F55: 0.26482292 | G55: 1.1225959
C57: IR (degrees)
B58: Quad Load (N) | E58: Flexion (deg)
C59: 0 | D59: 15 | E59: 30 | F59: 45 | G59: 60
B60: 20 | C60: -2.0595654 | D60: 3.8938313 | E60: 5.2589202 | F60: 4.5043858 | G60: 2.7610994
B61: 100 | C61: -1.5567563 | D61: 4.0158739 | E61: 5.4120217 | F61: 4.5529439 | G61: 2.8568027
B62: 200 | C62: -1.7634666 | D62: 4.0075114 | E62: 5.4616879 | F62: 4.6236561 | G62: 2.836845
B63: 300 | C63: -2.0045294 | D63: 3.9514385 | E63: 5.4788994 | F63: 4.6583076 | G63: 2.8051781
B64: 400 | C64: -2.170888 | D64: 3.8382236 | E64: 5.4922426 | F64: 4.6811231 | G64: 2.7859357
B65: 500 | C65: -2.2520761 | D65: 3.7570924 | E65: 5.5029814 | F65: 4.6874911 | G65: 2.7825706
B66: 600 | C66: -2.3039189 | D66: 3.6396319 | E66: 5.476595 | F66: 4.7051037 | G66: 2.8047214

Sheet 007
C2: Medial Translation (mm)
E3: Flexion (deg)
B4: Quad Load (N) | C4: 0 | D4: 15 | E4: 30 | F4: 45 | G4: 60
B5: 20 | C5: 1.3715165 | D5: 2.1278701 | E5: 2.4613287 | F5: 0.87573406 | G5: -0.90955739
B6: 100 | C6: 0.78745287 | D6: 2.2725249 | E6: 2.3477567 | F6: 1.0786765 | G6: -0.89009241
B7: 200 | C7: 0.47844207 | D7: 2.1606715 | E7: 2.2435887 | F7: 1.130366 | G7: -0.79122148
B8: 300 | C8: 0.0003532162 | D8: 2.0158634 | E8: 2.1441776 | F8: 1.1572687 | G8: -0.72407791
B9: 400 | C9: -0.81481344 | D9: 1.9478506 | E9: 2.0236083 | F9: 1.1697185 | G9: -0.69477411
B10: 500 | C10: -1.0645228 | D10: 1.8498855 | E10: 2.0280743 | F10: 1.1558021 | G10: -0.64001705
B11: 600 | C11: -1.2557029 | D11: 1.7937089 | E11: 1.933658 | F11: 1.1773589 | G11: -0.62343413
C13: Posterior Translation (mm)
B14: Quad Load (N) | E14: Flexion (deg)
C15: 0 | D15: 15 | E15: 30 | F15: 45 | G15: 60
B16: 20 | C16: -0.048224885 | D16: 0.9176553 | E16: 2.1924113 | F16: 4.5128509 | G16: 9.5567148
B17: 100 | C17: 0.033715132 | D17: 1.4682339 | E17: 2.2755267 | F17: 4.5095136 | G17: 9.5347998
B18: 200 | C18: 0.27451207 | D18: 1.8280366 | E18: 2.3169931 | F18: 4.526475 | G18: 9.4870746
B19: 300 | C19: 0.38728449 | D19: 2.0701351 | E19: 2.286844 | F19: 4.5905336 | G19: 9.4792402
B20: 400 | C20: 1.6302237 | D20: 2.1221648 | E20: 2.3265048 | F20: 4.5872406 | G20: 9.4594149
B21: 500 | C21: 1.7530218 | D21: 2.2060948 | E21: 2.2837058 | F21: 4.605199 | G21: 9.4817662
B22: 600 | C22: 1.8310487 | D22: 2.2350378 | E22: 2.180345 | F22: 4.5802075 | G22: 9.6076522
C24: Superior Translation (mm)
B25: Quad Load (N) | E25: Flexion (deg)
C26: 0 | D26: 15 | E26: 30 | F26: 45 | G26: 60
B27: 20 | C27: -0.22726791 | D27: -3.4225028 | E27: -10.240814 | F27: -16.921191 | G27: -20.150737
B28: 100 | C28: 3.2217471 | D28: -2.7337333 | E28: -9.9574423 | F28: -16.819361 | G28: -20.13231
B29: 200 | C29: 3.9433582 | D29: -2.2270855 | E29: -9.7171158 | F29: -16.614559 | G29: -20.02194
B30: 300 | C30: 4.6199196 | D30: -1.9529233 | E30: -9.5730376 | F30: -16.451064 | G30: -19.953613
B31: 400 | C31: 4.3043665 | D31: -1.7712068 | E31: -9.6804962 | F31: -16.301284 | G31: -19.870677
B32: 500 | C32: 4.605993 | D32: -1.7105789 | E32: -9.7468339 | F32: -16.245381 | G32: -19.721226
B33: 600 | C33: 4.9077393 | D33: -1.4609451 | E33: -9.731538 | F33: -16.167352 | G33: -19.466731
C35: Flexion (degrees)
E36: Flexion (deg)
B37: Quad Load (N) | C37: 0 | D37: 15 | E37: 30 | F37: 45 | G37: 60
B38: 20 | C38: -0.73649218 | D38: 5.8069827 | E38: 12.351427 | F38: 18.710895 | G38: 28.984063
B39: 100 | C39: -0.25452683 | D39: 5.9306035 | E39: 11.948551 | F39: 18.08362 | G39: 28.376398
B40: 200 | C40: 0.011344457 | D40: 6.1537956 | E40: 11.693197 | F40: 17.800931 | G40: 27.994102
B41: 300 | C41: 0.20272492 | D41: 6.1534569 | E41: 11.412919 | F41: 17.626405 | G41: 27.730684
B42: 400 | C42: 0.88190754 | D42: 6.0140163 | E42: 10.986982 | F42: 17.430947 | G42: 27.467184
B43: 500 | C43: 1.0002542 | D43: 5.8289345 | E43: 10.626788 | F43: 17.176172 | G43: 27.203451
B44: 600 | C44: 1.1233755 | D44: 5.7857975 | E44: 10.264506 | F44: 16.936424 | G44: 27.127021
C46: Valgus (degrees)
B47: Quad Load (N) | E47: Flexion (deg)
C48: 0 | D48: 15 | E48: 30 | F48: 45 | G48: 60
B49: 20 | C49: 3.1059189 | D49: 0.58370626 | E49: 0.95562334 | F49: 1.2513222 | G49: 2.0457911
B50: 100 | C50: 0.48193886 | D50: 0.55018784 | E50: 0.8013049 | F50: 1.1385523 | G50: 1.995042
B51: 200 | C51: 0.12214337 | D51: 0.56583261 | E51: 0.78069566 | F51: 1.1011297 | G51: 1.9958312
B52: 300 | C52: 0.037128233 | D52: 0.53882179 | E52: 0.7793495 | F52: 1.0551429 | G52: 1.9842286
B53: 400 | C53: -0.15007411 | D53: 0.50566998 | E53: 0.65802047 | F53: 1.0395495 | G53: 1.9341711
B54: 500 | C54: -0.17974295 | D54: 0.49888621 | E54: 0.55050294 | F54: 1.0148409 | G54: 1.9102578
B55: 600 | C55: -0.17809874 | D55: 0.50719524 | E55: 0.45195966 | F55: 0.97458069 | G55: 1.6862937
C57: IR (degrees)
B58: Quad Load (N) | E58: Flexion (deg)
C59: 0 | D59: 15 | E59: 30 | F59: 45 | G59: 60
B60: 20 | C60: -1.0653867 | D60: 2.6571608 | E60: 2.5474319 | F60: 2.6820191 | G60: 1.5320198
B61: 100 | C61: -2.4956948 | D61: 3.1852931 | E61: 2.7834382 | F61: 2.7386402 | G61: 1.3833696
B62: 200 | C62: -2.7920385 | D62: 3.2530625 | E62: 3.0384967 | F62: 2.8846921 | G62: 1.3658145
B63: 300 | C63: -2.8299936 | D63: 3.522686 | E63: 3.3012311 | F63: 2.9673617 | G63: 1.337728
B64: 400 | C64: -3.1344528 | D64: 3.6680574 | E64: 3.6191015 | F64: 3.0350038 | G64: 1.378662
B65: 500 | C65: -3.1360763 | D65: 3.9167861 | E65: 3.8256414 | F65: 3.103938 | G65: 1.3650623
B66: 600 | C66: -3.1715172 | D66: 4.1030654 | E66: 4.0528722 | F66: 3.1607889 | G66: 1.5308973

Sheet 008
C2: Medial Translation (mm)
E3: Flexion (deg)
B4: Quad Load (N) | C4: 0 | D4: 15 | E4: 30 | F4: 45 | G4: 60
B5: 20 | C5: 0.083495177 | D5: -0.76520817 | E5: -4.3186767 | F5: -7.163931 | G5: -10.247424
B6: 100 | C6: 0.13509536 | D6: -0.80544924 | E6: -4.362005 | F6: -7.0305722 | G6: -10.239626
B7: 200 | C7: 0.0066468412 | D7: -0.84553757 | E7: -4.2704452 | F7: -6.9032171 | G7: -10.067416
B8: 300 | C8: -0.18438135 | D8: -0.8775272 | E8: -4.167762 | F8: -6.8303435 | G8: -9.8696328
B9: 400 | C9: -0.12502629 | D9: -0.96545084 | E9: -4.2135846 | F9: -6.7846813 | G9: -9.7691636
B10: 500 | C10: -0.22894854 | D10: -0.92547565 | E10: -4.15896 | F10: -6.7119948 | G10: -9.7258926
B11: 600 | C11: -0.42941567 | D11: -0.9316365 | E11: -4.0642889 | F11: -6.6198536 | G11: -9.7228276
C13: Posterior Translation (mm)
B14: Quad Load (N) | E14: Flexion (deg)
C15: 0 | D15: 15 | E15: 30 | F15: 45 | G15: 60
B16: 20 | C16: 0.07771344 | D16: -0.24834341 | E16: -1.3894542 | F16: -1.3402594 | G16: -1.8267766
B17: 100 | C17: 0.77753695 | D17: -0.21220857 | E17: -1.2216655 | F17: -1.1658469 | G17: -1.6509769
B18: 200 | C18: 1.169945 | D18: -0.11099026 | E18: -1.1154769 | F18: -1.0156954 | G18: -1.5938552
B19: 300 | C19: 1.2650086 | D19: -0.015057539 | E19: -1.0295059 | F19: -0.96735761 | G19: -1.5325558
B20: 400 | C20: 1.5937953 | D20: 0.050520623 | E20: -1.0000065 | F20: -0.94532432 | G20: -1.4697732
B21: 500 | C21: 1.763062 | D21: 0.18231307 | E21: -0.92470951 | F21: -0.85054988 | G21: -1.3932842
B22: 600 | C22: 1.7174637 | D22: 0.31265907 | E22: -0.80325937 | F22: -0.72177981 | G22: -1.3605441
C24: Superior Translation (mm)
B25: Quad Load (N) | E25: Flexion (deg)
C26: 0 | D26: 15 | E26: 30 | F26: 45 | G26: 60
B27: 20 | C27: -0.054668033 | D27: -8.1782157 | E27: -16.082469 | F27: -20.193853 | G27: -22.422423
B28: 100 | C28: 0.94585741 | D28: -7.9054633 | E28: -15.606235 | F28: -20.086891 | G28: -22.180604
B29: 200 | C29: 1.6999629 | D29: -7.5882194 | E29: -15.466152 | F29: -20.110167 | G29: -22.087038
B30: 300 | C30: 2.3256259 | D30: -7.29294 | E30: -15.268263 | F30: -19.981375 | G30: -22.065886
B31: 400 | C31: 2.5454433 | D31: -6.9375771 | E31: -14.921232 | F31: -19.798685 | G31: -22.058165
B32: 500 | C32: 2.8176755 | D32: -6.7031788 | E32: -14.703354 | F32: -19.765392 | G32: -22.099467
B33: 600 | C33: 3.2183088 | D33: -6.4920306 | E33: -14.615767 | F33: -19.81211 | G33: -22.034966
C35: Flexion (degrees)
E36: Flexion (deg)
B37: Quad Load (N) | C37: 0 | D37: 15 | E37: 30 | F37: 45 | G37: 60
B38: 20 | C38: 0.042715424 | D38: 6.488451 | E38: 13.165504 | F38: 23.14106 | G38: 33.918343
B39: 100 | C39: 0.46416016 | D39: 6.0733476 | E39: 12.857075 | F39: 22.75012 | G39: 33.785934
B40: 200 | C40: 0.79377407 | D40: 5.9025422 | E40: 12.773376 | F40: 22.592152 | G40: 33.553325
B41: 300 | C41: 0.88237338 | D41: 5.7897828 | E41: 12.730949 | F41: 22.407746 | G41: 33.459009
B42: 400 | C42: 0.99899143 | D42: 5.8205711 | E42: 12.689065 | F42: 22.247335 | G42: 33.333895
B43: 500 | C43: 0.99317501 | D43: 5.8438107 | E43: 12.693879 | F43: 22.189084 | G43: 33.342663
B44: 600 | C44: 0.94510083 | D44: 5.8886247 | E44: 12.732864 | F44: 22.194108 | G44: 33.233545
C46: Valgus (degrees)
B47: Quad Load (N) | E47: Flexion (deg)
C48: 0 | D48: 15 | E48: 30 | F48: 45 | G48: 60
B49: 20 | C49: -0.041790469 | D49: 2.2813663 | E49: 4.7620924 | F49: 7.7393741 | G49: 11.25803
B50: 100 | C50: -0.21552979 | D50: 2.0676677 | E50: 4.5673019 | F50: 7.8260568 | G50: 11.366965
B51: 200 | C51: -0.31528163 | D51: 1.9568938 | E51: 4.5279577 | F51: 7.7775387 | G51: 11.524452
B52: 300 | C52: -0.37506639 | D52: 1.8595409 | E52: 4.4853884 | F52: 7.7305076 | G52: 11.556281
B53: 400 | C53: -0.55753759 | D53: 1.7783725 | E53: 4.4568191 | F53: 7.6730638 | G53: 11.527052
B54: 500 | C54: -0.59832336 | D54: 1.7193337 | E54: 4.4205734 | F54: 7.6310576 | G54: 11.480517
B55: 600 | C55: -0.63543943 | D55: 1.652622 | E55: 4.3322181 | F55: 7.5719728 | G55: 11.382829
C57: IR (degrees)
B58: Quad Load (N) | E58: Flexion (deg)
C59: 0 | D59: 15 | E59: 30 | F59: 45 | G59: 60
B60: 20 | C60: 0.025743892 | D60: -0.51391138 | E60: -3.0437 | F60: -4.7401315 | G60: -9.4877028
B61: 100 | C61: 0.95336815 | D61: -0.61192364 | E61: -2.9467927 | F61: -4.5595685 | G61: -9.7500308
B62: 200 | C62: 1.3867023 | D62: -0.5598768 | E62: -2.8901541 | F62: -4.5100747 | G62: -9.7000043
B63: 300 | C63: 1.5337274 | D63: -0.47323395 | E63: -2.862617 | F63: -4.4774398 | G63: -9.6361657
B64: 400 | C64: 1.6632528 | D64: -0.45236246 | E64: -2.8971582 | F64: -4.4578546 | G64: -9.5393027
B65: 500 | C65: 1.7259029 | D65: -0.40005521 | E65: -2.8911455 | F65: -4.4327673 | G65: -9.4928413
B66: 600 | C66: 1.7290639 | D66: -0.35669138 | E66: -2.8466769 | F66: -4.4136241 | G66: -9.4211937

Sheet Sheet1
