Workbook

Sheet summary
C2: Medial Translation (mm)
E3: Flexion (deg)
B4: Quad Load (N) | C4: 0 | D4: 15 | E4: 30 | F4: 45 | G4: 60
B5: 20 | C5: =oks003_PF_processed_data!E3 -> -3.6087697 | D5: =oks003_PF_processed_data!E10 -> -2.331588 | E5: =oks003_PF_processed_data!E17 -> -1.7945197 | F5: =oks003_PF_processed_data!E24 -> -2.6261828 | G5: =oks003_PF_processed_data!E31 -> -3.7294511
B6: 100 | C6: =oks003_PF_processed_data!E4 -> -6.1847813 | D6: =oks003_PF_processed_data!E11 -> -4.0391758 | E6: =oks003_PF_processed_data!E18 -> -2.4853988 | F6: =oks003_PF_processed_data!E25 -> -2.7411216 | G6: =oks003_PF_processed_data!E32 -> -3.6792001
B7: 200 | C7: =oks003_PF_processed_data!E5 -> -6.7212616 | D7: =oks003_PF_processed_data!E12 -> -4.2879126 | E7: =oks003_PF_processed_data!E19 -> -2.7079675 | F7: =oks003_PF_processed_data!E26 -> -2.7827186 | G7: =oks003_PF_processed_data!E33 -> -3.6425775
B8: 300 | C8: =oks003_PF_processed_data!E6 -> -7.0074614 | D8: =oks003_PF_processed_data!E13 -> -4.4595059 | E8: =oks003_PF_processed_data!E20 -> -2.7807451 | F8: =oks003_PF_processed_data!E27 -> -2.7912944 | G8: =oks003_PF_processed_data!E34 -> -3.5843029
B9: 400 | C9: =oks003_PF_processed_data!E7 -> -7.2401772 | D9: =oks003_PF_processed_data!E14 -> -4.4845164 | E9: =oks003_PF_processed_data!E21 -> -2.8054494 | F9: =oks003_PF_processed_data!E28 -> -2.7853774 | G9: =oks003_PF_processed_data!E35 -> -3.5139966
B10: 500 | C10: =oks003_PF_processed_data!E8 -> -7.3743889 | D10: =oks003_PF_processed_data!E15 -> -4.4661197 | E10: =oks003_PF_processed_data!E22 -> -2.8243621 | F10: =oks003_PF_processed_data!E29 -> -2.7622903 | G10: =oks003_PF_processed_data!E36 -> -3.467354
B11: 600 | C11: =oks003_PF_processed_data!E9 -> -7.4855838 | D11: =oks003_PF_processed_data!E16 -> -4.4783613 | E11: =oks003_PF_processed_data!E23 -> -2.8331375 | F11: =oks003_PF_processed_data!E30 -> -2.7252065 | G11: =oks003_PF_processed_data!E37 -> -3.4454
C13: Posterior Translation (mm)
B14: Quad Load (N) | E14: Flexion (deg)
C15: 0 | D15: 15 | E15: 30 | F15: 45 | G15: 60
B16: 20 | C16: =oks003_PF_processed_data!F3 -> 0.57136664 | D16: =oks003_PF_processed_data!F10 -> 0.37178871 | E16: =oks003_PF_processed_data!F17 -> 2.1684422 | F16: =oks003_PF_processed_data!F24 -> 4.2749765 | G16: =oks003_PF_processed_data!F31 -> 7.0442894
B17: 100 | C17: =oks003_PF_processed_data!F4 -> 2.782289 | D17: =oks003_PF_processed_data!F11 -> 1.3056788 | E17: =oks003_PF_processed_data!F18 -> 1.9874157 | F17: =oks003_PF_processed_data!F25 -> 4.3047979 | G17: =oks003_PF_processed_data!F32 -> 7.0381932
B18: 200 | C18: =oks003_PF_processed_data!F5 -> 3.3751245 | D18: =oks003_PF_processed_data!F12 -> 1.7251046 | E18: =oks003_PF_processed_data!F19 -> 1.9113221 | F18: =oks003_PF_processed_data!F26 -> 4.2066823 | G18: =oks003_PF_processed_data!F33 -> 7.0716874
B19: 300 | C19: =oks003_PF_processed_data!F6 -> 3.5654451 | D19: =oks003_PF_processed_data!F13 -> 1.9475649 | E19: =oks003_PF_processed_data!F20 -> 1.9465838 | F19: =oks003_PF_processed_data!F27 -> 4.1579676 | G19: =oks003_PF_processed_data!F34 -> 7.0957247
B20: 400 | C20: =oks003_PF_processed_data!F7 -> 3.709597 | D20: =oks003_PF_processed_data!F14 -> 2.1463316 | E20: =oks003_PF_processed_data!F21 -> 2.0152092 | F20: =oks003_PF_processed_data!F28 -> 4.1449385 | G20: =oks003_PF_processed_data!F35 -> 7.1106853
B21: 500 | C21: =oks003_PF_processed_data!F8 -> 3.6900884 | D21: =oks003_PF_processed_data!F15 -> 2.3270032 | E21: =oks003_PF_processed_data!F22 -> 2.099695 | F21: =oks003_PF_processed_data!F29 -> 4.2071294 | G21: =oks003_PF_processed_data!F36 -> 7.1059502
B22: 600 | C22: =oks003_PF_processed_data!F9 -> 3.7378863 | D22: =oks003_PF_processed_data!F16 -> 2.4413594 | E22: =oks003_PF_processed_data!F23 -> 2.2316109 | F22: =oks003_PF_processed_data!F30 -> 4.2279306 | G22: =oks003_PF_processed_data!F37 -> 7.1786919
C24: Superior Translation (mm)
B25: Quad Load (N) | E25: Flexion (deg)
C26: 0 | D26: 15 | E26: 30 | F26: 45 | G26: 60
B27: 20 | C27: =oks003_PF_processed_data!G3 -> 4.4071515 | D27: =oks003_PF_processed_data!G10 -> -0.72213662 | E27: =oks003_PF_processed_data!G17 -> -8.4458049 | F27: =oks003_PF_processed_data!G24 -> -14.726419 | G27: =oks003_PF_processed_data!G31 -> -18.367626
B28: 100 | C28: =oks003_PF_processed_data!G4 -> 8.6348236 | D28: =oks003_PF_processed_data!G11 -> 2.5602354 | E28: =oks003_PF_processed_data!G18 -> -6.5648508 | F28: =oks003_PF_processed_data!G25 -> -14.533726 | G28: =oks003_PF_processed_data!G32 -> -18.182642
B29: 200 | C29: =oks003_PF_processed_data!G5 -> 9.3995384 | D29: =oks003_PF_processed_data!G12 -> 3.292383 | E29: =oks003_PF_processed_data!G19 -> -5.549843 | F29: =oks003_PF_processed_data!G26 -> -14.084338 | G29: =oks003_PF_processed_data!G33 -> -18.085844
B30: 300 | C30: =oks003_PF_processed_data!G6 -> 9.7298962 | D30: =oks003_PF_processed_data!G13 -> 3.6767809 | E30: =oks003_PF_processed_data!G20 -> -5.0508673 | F30: =oks003_PF_processed_data!G27 -> -13.730716 | G30: =oks003_PF_processed_data!G34 -> -18.055543
B31: 400 | C31: =oks003_PF_processed_data!G7 -> 9.8644846 | D31: =oks003_PF_processed_data!G14 -> 3.9330312 | E31: =oks003_PF_processed_data!G21 -> -4.7881246 | F31: =oks003_PF_processed_data!G28 -> -13.423796 | G31: =oks003_PF_processed_data!G35 -> -17.99781
B32: 500 | C32: =oks003_PF_processed_data!G8 -> 9.8909821 | D32: =oks003_PF_processed_data!G15 -> 4.0670369 | E32: =oks003_PF_processed_data!G22 -> -4.4406379 | F32: =oks003_PF_processed_data!G29 -> -13.424805 | G32: =oks003_PF_processed_data!G36 -> -17.824935
B33: 600 | C33: =oks003_PF_processed_data!G9 -> 9.8929922 | D33: =oks003_PF_processed_data!G16 -> 4.2502528 | E33: =oks003_PF_processed_data!G23 -> -4.3253382 | F33: =oks003_PF_processed_data!G30 -> -13.201661 | G33: =oks003_PF_processed_data!G37 -> -17.867268
C35: Flexion (degrees)
E36: Flexion (deg)
B37: Quad Load (N) | C37: 0 | D37: 15 | E37: 30 | F37: 45 | G37: 60
B38: 20 | C38: =oks003_PF_processed_data!H3 -> -2.3237388 | D38: =oks003_PF_processed_data!H10 -> 8.1030828 | E38: =oks003_PF_processed_data!H17 -> 16.766387 | F38: =oks003_PF_processed_data!H24 -> 24.845137 | G38: =oks003_PF_processed_data!H31 -> 34.421804
B39: 100 | C39: =oks003_PF_processed_data!H4 -> 0.74362796 | D39: =oks003_PF_processed_data!H11 -> 10.034316 | E39: =oks003_PF_processed_data!H18 -> 16.769085 | F39: =oks003_PF_processed_data!H25 -> 23.740691 | G39: =oks003_PF_processed_data!H32 -> 33.89364
B40: 200 | C40: =oks003_PF_processed_data!H5 -> 1.231333 | D40: =oks003_PF_processed_data!H12 -> 10.310366 | E40: =oks003_PF_processed_data!H19 -> 16.874094 | F40: =oks003_PF_processed_data!H26 -> 23.471966 | G40: =oks003_PF_processed_data!H33 -> 33.557731
B41: 300 | C41: =oks003_PF_processed_data!H6 -> 1.2576779 | D41: =oks003_PF_processed_data!H13 -> 10.270254 | E41: =oks003_PF_processed_data!H20 -> 16.834355 | F41: =oks003_PF_processed_data!H27 -> 23.330257 | G41: =oks003_PF_processed_data!H34 -> 33.330725
B42: 400 | C42: =oks003_PF_processed_data!H7 -> 1.1123068 | D42: =oks003_PF_processed_data!H14 -> 10.16347 | E42: =oks003_PF_processed_data!H21 -> 16.660354 | F42: =oks003_PF_processed_data!H28 -> 23.208176 | G42: =oks003_PF_processed_data!H35 -> 33.148387
B43: 500 | C43: =oks003_PF_processed_data!H8 -> 0.86596023 | D43: =oks003_PF_processed_data!H15 -> 9.9703794 | E43: =oks003_PF_processed_data!H22 -> 16.605341 | F43: =oks003_PF_processed_data!H29 -> 22.981255 | G43: =oks003_PF_processed_data!H36 -> 32.995564
B44: 600 | C44: =oks003_PF_processed_data!H9 -> 0.62015372 | D44: =oks003_PF_processed_data!H16 -> 9.7763471 | E44: =oks003_PF_processed_data!H23 -> 16.435814 | F44: =oks003_PF_processed_data!H30 -> 22.883889 | G44: =oks003_PF_processed_data!H37 -> 32.833723
C46: Valgus (degrees)
B47: Quad Load (N) | E47: Flexion (deg)
C48: 0 | D48: 15 | E48: 30 | F48: 45 | G48: 60
B49: 20 | C49: =oks003_PF_processed_data!I3 -> 3.9075276 | D49: =oks003_PF_processed_data!I10 -> 5.6801472 | E49: =oks003_PF_processed_data!I17 -> 5.2003351 | F49: =oks003_PF_processed_data!I24 -> 4.9565536 | G49: =oks003_PF_processed_data!I31 -> 6.1352295
B50: 100 | C50: =oks003_PF_processed_data!I4 -> 5.1984053 | D50: =oks003_PF_processed_data!I11 -> 5.9724329 | E50: =oks003_PF_processed_data!I18 -> 5.8013546 | F50: =oks003_PF_processed_data!I25 -> 5.9196614 | G50: =oks003_PF_processed_data!I32 -> 6.1968682
B51: 200 | C51: =oks003_PF_processed_data!I5 -> 4.9518437 | D51: =oks003_PF_processed_data!I12 -> 5.5387629 | E51: =oks003_PF_processed_data!I19 -> 5.5519776 | F51: =oks003_PF_processed_data!I26 -> 5.7388342 | G51: =oks003_PF_processed_data!I33 -> 5.9702822
B52: 300 | C52: =oks003_PF_processed_data!I6 -> 4.7577559 | D52: =oks003_PF_processed_data!I13 -> 5.3562948 | E52: =oks003_PF_processed_data!I20 -> 5.2699568 | F52: =oks003_PF_processed_data!I27 -> 5.4205617 | G52: =oks003_PF_processed_data!I34 -> 5.680916
B53: 400 | C53: =oks003_PF_processed_data!I7 -> 4.5695272 | D53: =oks003_PF_processed_data!I14 -> 5.0864293 | E53: =oks003_PF_processed_data!I21 -> 5.0360493 | F53: =oks003_PF_processed_data!I28 -> 5.1447884 | G53: =oks003_PF_processed_data!I35 -> 5.4452001
B54: 500 | C54: =oks003_PF_processed_data!I8 -> 4.3450419 | D54: =oks003_PF_processed_data!I15 -> 4.8125423 | E54: =oks003_PF_processed_data!I22 -> 4.784491 | F54: =oks003_PF_processed_data!I29 -> 4.8822869 | G54: =oks003_PF_processed_data!I36 -> 5.1891937
B55: 600 | C55: =oks003_PF_processed_data!I9 -> 4.1357891 | D55: =oks003_PF_processed_data!I16 -> 4.6150636 | E55: =oks003_PF_processed_data!I23 -> 4.62409 | F55: =oks003_PF_processed_data!I30 -> 4.7010493 | G55: =oks003_PF_processed_data!I37 -> 4.9733864
C57: IR (degrees)
B58: Quad Load (N) | E58: Flexion (deg)
C59: 0 | D59: 15 | E59: 30 | F59: 45 | G59: 60
B60: 20 | C60: =oks003_PF_processed_data!J3 -> 3.847737 | D60: =oks003_PF_processed_data!J10 -> 2.8572247 | E60: =oks003_PF_processed_data!J17 -> -0.15555117 | F60: =oks003_PF_processed_data!J24 -> -4.3276435 | G60: =oks003_PF_processed_data!J31 -> -4.9771433
B61: 100 | C61: =oks003_PF_processed_data!J4 -> 4.8513466 | D61: =oks003_PF_processed_data!J11 -> 3.9735558 | E61: =oks003_PF_processed_data!J18 -> 1.8146214 | F61: =oks003_PF_processed_data!J25 -> -1.6203167 | G61: =oks003_PF_processed_data!J32 -> -3.8593465
B62: 200 | C62: =oks003_PF_processed_data!J5 -> 5.3124558 | D62: =oks003_PF_processed_data!J12 -> 4.4437767 | E62: =oks003_PF_processed_data!J19 -> 2.6436584 | F62: =oks003_PF_processed_data!J26 -> -0.49441126 | G62: =oks003_PF_processed_data!J33 -> -2.970023
B63: 300 | C63: =oks003_PF_processed_data!J6 -> 5.5445501 | D63: =oks003_PF_processed_data!J13 -> 4.7890024 | E63: =oks003_PF_processed_data!J20 -> 3.0559035 | F63: =oks003_PF_processed_data!J27 -> 0.071279977 | G63: =oks003_PF_processed_data!J34 -> -2.4644688
B64: 400 | C64: =oks003_PF_processed_data!J7 -> 5.6958287 | D64: =oks003_PF_processed_data!J14 -> 4.9177991 | E64: =oks003_PF_processed_data!J21 -> 3.3714825 | F64: =oks003_PF_processed_data!J28 -> 0.43253296 | G64: =oks003_PF_processed_data!J35 -> -2.1370227
B65: 500 | C65: =oks003_PF_processed_data!J8 -> 5.7936337 | D65: =oks003_PF_processed_data!J15 -> 4.9520029 | E65: =oks003_PF_processed_data!J22 -> 3.5346285 | F65: =oks003_PF_processed_data!J29 -> 0.68530429 | G65: =oks003_PF_processed_data!J36 -> -1.8989954
B66: 600 | C66: =oks003_PF_processed_data!J9 -> 5.792431 | D66: =oks003_PF_processed_data!J16 -> 4.9664748 | E66: =oks003_PF_processed_data!J23 -> 3.6908648 | F66: =oks003_PF_processed_data!J30 -> 0.87174709 | G66: =oks003_PF_processed_data!J37 -> -1.765187

Sheet oks003_PF_processed_data
C1: flexion | D1: quad load | E1: State.Knee PTFJ.Mean.Knee PTFJ Medial | F1: State.Knee PTFJ.Mean.Knee PTFJ Posterior | G1: State.Knee PTFJ.Mean.Knee PTFJ Superior | H1: State.Knee PTFJ.Mean.Knee PTFJ Flexion | I1: State.Knee PTFJ.Mean.Knee PTFJ Valgus | J1: State.Knee PTFJ.Mean.Knee PTFJ Internal Rotation
C2: deg | D2: N | E2: mm | F2: mm | G2: mm | H2: deg | I2: deg | J2: deg
A3: oks003_PF | B3: 016_0flex_20N | C3: 0 | D3: 20 | E3: -3.6087697 | F3: 0.57136664 | G3: 4.4071515 | H3: -2.3237388 | I3: 3.9075276 | J3: 3.847737
A4: oks003_PF | B4: 017_0flex_100N | C4: 0 | D4: 100 | E4: -6.1847813 | F4: 2.782289 | G4: 8.6348236 | H4: 0.74362796 | I4: 5.1984053 | J4: 4.8513466
A5: oks003_PF | B5: 018_0flex_200N | C5: 0 | D5: 200 | E5: -6.7212616 | F5: 3.3751245 | G5: 9.3995384 | H5: 1.231333 | I5: 4.9518437 | J5: 5.3124558
A6: oks003_PF | B6: 019_0flex_300N | C6: 0 | D6: 300 | E6: -7.0074614 | F6: 3.5654451 | G6: 9.7298962 | H6: 1.2576779 | I6: 4.7577559 | J6: 5.5445501
A7: oks003_PF | B7: 020_0flex_400N | C7: 0 | D7: 400 | E7: -7.2401772 | F7: 3.709597 | G7: 9.8644846 | H7: 1.1123068 | I7: 4.5695272 | J7: 5.6958287
A8: oks003_PF | B8: 021_0flex_500N | C8: 0 | D8: 500 | E8: -7.3743889 | F8: 3.6900884 | G8: 9.8909821 | H8: 0.86596023 | I8: 4.3450419 | J8: 5.7936337
A9: oks003_PF | B9: 022_0flex_600N | C9: 0 | D9: 600 | E9: -7.4855838 | F9: 3.7378863 | G9: 9.8929922 | H9: 0.62015372 | I9: 4.1357891 | J9: 5.792431
A10: oks003_PF | B10: 023_15flex_20N | C10: 15 | D10: 20 | E10: -2.331588 | F10: 0.37178871 | G10: -0.72213662 | H10: 8.1030828 | I10: 5.6801472 | J10: 2.8572247
A11: oks003_PF | B11: 024_15flex_100N | C11: 15 | D11: 100 | E11: -4.0391758 | F11: 1.3056788 | G11: 2.5602354 | H11: 10.034316 | I11: 5.9724329 | J11: 3.9735558
A12: oks003_PF | B12: 025_15flex_200N | C12: 15 | D12: 200 | E12: -4.2879126 | F12: 1.7251046 | G12: 3.292383 | H12: 10.310366 | I12: 5.5387629 | J12: 4.4437767
A13: oks003_PF | B13: 026_15flex_300N | C13: 15 | D13: 300 | E13: -4.4595059 | F13: 1.9475649 | G13: 3.6767809 | H13: 10.270254 | I13: 5.3562948 | J13: 4.7890024
A14: oks003_PF | B14: 027_15flex_400N | C14: 15 | D14: 400 | E14: -4.4845164 | F14: 2.1463316 | G14: 3.9330312 | H14: 10.16347 | I14: 5.0864293 | J14: 4.9177991
... A37: oks003_PF | B37: 050_60flex_600N | C37: 60 | D37: 600 | E37: -3.4454 | F37: 7.1786919 | G37: -17.867268 | H37: 32.833723 | I37: 4.9733864 | J37: -1.765187
