Workbook

Sheet summary
C2: Medial Translation (mm)
E3: Flexion (deg)
B4: Quad Load (N) | C4: 0 | D4: 15 | E4: 30 | F4: 45 | G4: 60
B5: 20 | C5: =oks007_PF_processed_data!E3 -> 1.3715165 | D5: =oks007_PF_processed_data!E10 -> 2.1278701 | E5: =oks007_PF_processed_data!E17 -> 2.4613287 | F5: =oks007_PF_processed_data!E24 -> 0.87573406 | G5: =oks007_PF_processed_data!E31 -> -0.90955739
B6: 100 | C6: =oks007_PF_processed_data!E4 -> 0.78745287 | D6: =oks007_PF_processed_data!E11 -> 2.2725249 | E6: =oks007_PF_processed_data!E18 -> 2.3477567 | F6: =oks007_PF_processed_data!E25 -> 1.0786765 | G6: =oks007_PF_processed_data!E32 -> -0.89009241
B7: 200 | C7: =oks007_PF_processed_data!E5 -> 0.47844207 | D7: =oks007_PF_processed_data!E12 -> 2.1606715 | E7: =oks007_PF_processed_data!E19 -> 2.2435887 | F7: =oks007_PF_processed_data!E26 -> 1.130366 | G7: =oks007_PF_processed_data!E33 -> -0.79122148
B8: 300 | C8: =oks007_PF_processed_data!E6 -> 0.0003532162 | D8: =oks007_PF_processed_data!E13 -> 2.0158634 | E8: =oks007_PF_processed_data!E20 -> 2.1441776 | F8: =oks007_PF_processed_data!E27 -> 1.1572687 | G8: =oks007_PF_processed_data!E34 -> -0.72407791
B9: 400 | C9: =oks007_PF_processed_data!E7 -> -0.81481344 | D9: =oks007_PF_processed_data!E14 -> 1.9478506 | E9: =oks007_PF_processed_data!E21 -> 2.0236083 | F9: =oks007_PF_processed_data!E28 -> 1.1697185 | G9: =oks007_PF_processed_data!E35 -> -0.69477411
B10: 500 | C10: =oks007_PF_processed_data!E8 -> -1.0645228 | D10: =oks007_PF_processed_data!E15 -> 1.8498855 | E10: =oks007_PF_processed_data!E22 -> 2.0280743 | F10: =oks007_PF_processed_data!E29 -> 1.1558021 | G10: =oks007_PF_processed_data!E36 -> -0.64001705
B11: 600 | C11: =oks007_PF_processed_data!E9 -> -1.2557029 | D11: =oks007_PF_processed_data!E16 -> 1.7937089 | E11: =oks007_PF_processed_data!E23 -> 1.933658 | F11: =oks007_PF_processed_data!E30 -> 1.1773589 | G11: =oks007_PF_processed_data!E37 -> -0.62343413
C13: Posterior Translation (mm)
B14: Quad Load (N) | E14: Flexion (deg)
C15: 0 | D15: 15 | E15: 30 | F15: 45 | G15: 60
B16: 20 | C16: =oks007_PF_processed_data!F3 -> -0.048224885 | D16: =oks007_PF_processed_data!F10 -> 0.9176553 | E16: =oks007_PF_processed_data!F17 -> 2.1924113 | F16: =oks007_PF_processed_data!F24 -> 4.5128509 | G16: =oks007_PF_processed_data!F31 -> 9.5567148
B17: 100 | C17: =oks007_PF_processed_data!F4 -> 0.033715132 | D17: =oks007_PF_processed_data!F11 -> 1.4682339 | E17: =oks007_PF_processed_data!F18 -> 2.2755267 | F17: =oks007_PF_processed_data!F25 -> 4.5095136 | G17: =oks007_PF_processed_data!F32 -> 9.5347998
B18: 200 | C18: =oks007_PF_processed_data!F5 -> 0.27451207 | D18: =oks007_PF_processed_data!F12 -> 1.8280366 | E18: =oks007_PF_processed_data!F19 -> 2.3169931 | F18: =oks007_PF_processed_data!F26 -> 4.526475 | G18: =oks007_PF_processed_data!F33 -> 9.4870746
B19: 300 | C19: =oks007_PF_processed_data!F6 -> 0.38728449 | D19: =oks007_PF_processed_data!F13 -> 2.0701351 | E19: =oks007_PF_processed_data!F20 -> 2.286844 | F19: =oks007_PF_processed_data!F27 -> 4.5905336 | G19: =oks007_PF_processed_data!F34 -> 9.4792402
B20: 400 | C20: =oks007_PF_processed_data!F7 -> 1.6302237 | D20: =oks007_PF_processed_data!F14 -> 2.1221648 | E20: =oks007_PF_processed_data!F21 -> 2.3265048 | F20: =oks007_PF_processed_data!F28 -> 4.5872406 | G20: =oks007_PF_processed_data!F35 -> 9.4594149
B21: 500 | C21: =oks007_PF_processed_data!F8 -> 1.7530218 | D21: =oks007_PF_processed_data!F15 -> 2.2060948 | E21: =oks007_PF_processed_data!F22 -> 2.2837058 | F21: =oks007_PF_processed_data!F29 -> 4.605199 | G21: =oks007_PF_processed_data!F36 -> 9.4817662
B22: 600 | C22: =oks007_PF_processed_data!F9 -> 1.8310487 | D22: =oks007_PF_processed_data!F16 -> 2.2350378 | E22: =oks007_PF_processed_data!F23 -> 2.180345 | F22: =oks007_PF_processed_data!F30 -> 4.5802075 | G22: =oks007_PF_processed_data!F37 -> 9.6076522
C24: Superior Translation (mm)
B25: Quad Load (N) | E25: Flexion (deg)
C26: 0 | D26: 15 | E26: 30 | F26: 45 | G26: 60
B27: 20 | C27: =oks007_PF_processed_data!G3 -> -0.22726791 | D27: =oks007_PF_processed_data!G10 -> -3.4225028 | E27: =oks007_PF_processed_data!G17 -> -10.240814 | F27: =oks007_PF_processed_data!G24 -> -16.921191 | G27: =oks007_PF_processed_data!G31 -> -20.150737
B28: 100 | C28: =oks007_PF_processed_data!G4 -> 3.2217471 | D28: =oks007_PF_processed_data!G11 -> -2.7337333 | E28: =oks007_PF_processed_data!G18 -> -9.9574423 | F28: =oks007_PF_processed_data!G25 -> -16.819361 | G28: =oks007_PF_processed_data!G32 -> -20.13231
B29: 200 | C29: =oks007_PF_processed_data!G5 -> 3.9433582 | D29: =oks007_PF_processed_data!G12 -> -2.2270855 | E29: =oks007_PF_processed_data!G19 -> -9.7171158 | F29: =oks007_PF_processed_data!G26 -> -16.614559 | G29: =oks007_PF_processed_data!G33 -> -20.02194
B30: 300 | C30: =oks007_PF_processed_data!G6 -> 4.6199196 | D30: =oks007_PF_processed_data!G13 -> -1.9529233 | E30: =oks007_PF_processed_data!G20 -> -9.5730376 | F30: =oks007_PF_processed_data!G27 -> -16.451064 | G30: =oks007_PF_processed_data!G34 -> -19.953613
B31: 400 | C31: =oks007_PF_processed_data!G7 -> 4.3043665 | D31: =oks007_PF_processed_data!G14 -> -1.7712068 | E31: =oks007_PF_processed_data!G21 -> -9.6804962 | F31: =oks007_PF_processed_data!G28 -> -16.301284 | G31: =oks007_PF_processed_data!G35 -> -19.870677
B32: 500 | C32: =oks007_PF_processed_data!G8 -> 4.605993 | D32: =oks007_PF_processed_data!G15 -> -1.7105789 | E32: =oks007_PF_processed_data!G22 -> -9.7468339 | F32: =oks007_PF_processed_data!G29 -> -16.245381 | G32: =oks007_PF_processed_data!G36 -> -19.721226
B33: 600 | C33: =oks007_PF_processed_data!G9 -> 4.9077393 | D33: =oks007_PF_processed_data!G16 -> -1.4609451 | E33: =oks007_PF_processed_data!G23 -> -9.731538 | F33: =oks007_PF_processed_data!G30 -> -16.167352 | G33: =oks007_PF_processed_data!G37 -> -19.466731
C35: Flexion (degrees)
E36: Flexion (deg)
B37: Quad Load (N) | C37: 0 | D37: 15 | E37: 30 | F37: 45 | G37: 60
B38: 20 | C38: =oks007_PF_processed_data!H3 -> -0.73649218 | D38: =oks007_PF_processed_data!H10 -> 5.8069827 | E38: =oks007_PF_processed_data!H17 -> 12.351427 | F38: =oks007_PF_processed_data!H24 -> 18.710895 | G38: =oks007_PF_processed_data!H31 -> 28.984063
B39: 100 | C39: =oks007_PF_processed_data!H4 -> -0.25452683 | D39: =oks007_PF_processed_data!H11 -> 5.9306035 | E39: =oks007_PF_processed_data!H18 -> 11.948551 | F39: =oks007_PF_processed_data!H25 -> 18.08362 | G39: =oks007_PF_processed_data!H32 -> 28.376398
B40: 200 | C40: =oks007_PF_processed_data!H5 -> 0.011344457 | D40: =oks007_PF_processed_data!H12 -> 6.1537956 | E40: =oks007_PF_processed_data!H19 -> 11.693197 | F40: =oks007_PF_processed_data!H26 -> 17.800931 | G40: =oks007_PF_processed_data!H33 -> 27.994102
B41: 300 | C41: =oks007_PF_processed_data!H6 -> 0.20272492 | D41: =oks007_PF_processed_data!H13 -> 6.1534569 | E41: =oks007_PF_processed_data!H20 -> 11.412919 | F41: =oks007_PF_processed_data!H27 -> 17.626405 | G41: =oks007_PF_processed_data!H34 -> 27.730684
B42: 400 | C42: =oks007_PF_processed_data!H7 -> 0.88190754 | D42: =oks007_PF_processed_data!H14 -> 6.0140163 | E42: =oks007_PF_processed_data!H21 -> 10.986982 | F42: =oks007_PF_processed_data!H28 -> 17.430947 | G42: =oks007_PF_processed_data!H35 -> 27.467184
B43: 500 | C43: =oks007_PF_processed_data!H8 -> 1.0002542 | D43: =oks007_PF_processed_data!H15 -> 5.8289345 | E43: =oks007_PF_processed_data!H22 -> 10.626788 | F43: =oks007_PF_processed_data!H29 -> 17.176172 | G43: =oks007_PF_processed_data!H36 -> 27.203451
B44: 600 | C44: =oks007_PF_processed_data!H9 -> 1.1233755 | D44: =oks007_PF_processed_data!H16 -> 5.7857975 | E44: =oks007_PF_processed_data!H23 -> 10.264506 | F44: =oks007_PF_processed_data!H30 -> 16.936424 | G44: =oks007_PF_processed_data!H37 -> 27.127021
...

Sheet oks007_PF_processed_data
C1: flexion | D1: quad load | E1: State.Knee PTFJ.Mean.Knee PTFJ Medial | F1: State.Knee PTFJ.Mean.Knee PTFJ Posterior | G1: State.Knee PTFJ.Mean.Knee PTFJ Superior | H1: State.Knee PTFJ.Mean.Knee PTFJ Flexion | I1: State.Knee PTFJ.Mean.Knee PTFJ Valgus | J1: State.Knee PTFJ.Mean.Knee PTFJ Internal Rotation
C2: deg | D2: N | E2: mm | F2: mm | G2: mm | H2: deg | I2: deg | J2: deg
A3: oks007_PF | B3: 009_0Flex_20N | C3: 0 | D3: 20 | E3: 1.3715165 | F3: -0.048224885 | G3: -0.22726791 | H3: -0.73649218 | I3: 3.1059189 | J3: -1.0653867
A4: oks007_PF | B4: 011_0Flex_100N | C4: 0 | D4: 100 | E4: 0.78745287 | F4: 0.033715132 | G4: 3.2217471 | H4: -0.25452683 | I4: 0.48193886 | J4: -2.4956948
A5: oks007_PF | B5: 012_0Flex_200N | C5: 0 | D5: 200 | E5: 0.47844207 | F5: 0.27451207 | G5: 3.9433582 | H5: 0.011344457 | I5: 0.12214337 | J5: -2.7920385
A6: oks007_PF | B6: 013_0Flex_300N | C6: 0 | D6: 300 | E6: 0.0003532162 | F6: 0.38728449 | G6: 4.6199196 | H6: 0.20272492 | I6: 0.037128233 | J6: -2.8299936
A7: oks007_PF | B7: 014_0Flex_400N | C7: 0 | D7: 400 | E7: -0.81481344 | F7: 1.6302237 | G7: 4.3043665 | H7: 0.88190754 | I7: -0.15007411 | J7: -3.1344528
A8: oks007_PF | B8: 015_0Flex_500N | C8: 0 | D8: 500 | E8: -1.0645228 | F8: 1.7530218 | G8: 4.605993 | H8: 1.0002542 | I8: -0.17974295 | J8: -3.1360763
A9: oks007_PF | B9: 016_0Flex_600N | C9: 0 | D9: 600 | E9: -1.2557029 | F9: 1.8310487 | G9: 4.9077393 | H9: 1.1233755 | I9: -0.17809874 | J9: -3.1715172
A10: oks007_PF | B10: 017_15Flex_20N | C10: 15 | D10: 20 | E10: 2.1278701 | F10: 0.9176553 | G10: -3.4225028 | H10: 5.8069827 | I10: 0.58370626 | J10: 2.6571608
A11: oks007_PF | B11: 018_15Flex_100N | C11: 15 | D11: 100 | E11: 2.2725249 | F11: 1.4682339 | G11: -2.7337333 | H11: 5.9306035 | I11: 0.55018784 | J11: 3.1852931
A12: oks007_PF | B12: 019_15Flex_200N | C12: 15 | D12: 200 | E12: 2.1606715 | F12: 1.8280366 | G12: -2.2270855 | H12: 6.1537956 | I12: 0.56583261 | J12: 3.2530625
A13: oks007_PF | B13: 021_15Flex_300N | C13: 15 | D13: 300 | E13: 2.0158634 | F13: 2.0701351 | G13: -1.9529233 | H13: 6.1534569 | I13: 0.53882179 | J13: 3.522686
A14: oks007_PF | B14: 022_15Flex_400N | C14: 15 | D14: 400 | E14: 1.9478506 | F14: 2.1221648 | G14: -1.7712068 | H14: 6.0140163 | I14: 0.50566998 | J14: 3.6680574
... A37: oks007_PF | B37: 046_60Flex_600N | C37: 60 | D37: 600 | E37: -0.62343413 | F37: 9.6076522 | G37: -19.466731 | H37: 27.127021 | I37: 1.6862937 | J37: 1.5308973
